BEGIN:VCALENDAR
VERSION:2.0
PRODID:icalendar-ruby
CALSCALE:GREGORIAN
METHOD:PUBLISH
BEGIN:VEVENT
DTSTAMP:20260421T221040Z
UID:event-2533-2022-08-06T11:00:00+02:00-2022-08-06T14:00:00+02:00
DTSTART;TZID=Europe/Madrid:20220806T110000
DTEND;TZID=Europe/Madrid:20220806T140000
DESCRIPTION:Santander acoge cada año una nueva edición de la Feria del Li
 bro Viejo en el Plaza de Alfonso XIII. Horario de apertura de casetas: de 
 11 a 14 y de 17:30 a 21:30 horas.
SUMMARY:Feria del Libro Viejo de Santander
END:VEVENT
BEGIN:VEVENT
DTSTAMP:20260421T221040Z
UID:event-2533-2022-08-06T17:30:00+02:00-2022-08-06T21:30:00+02:00
DTSTART;TZID=Europe/Madrid:20220806T173000
DTEND;TZID=Europe/Madrid:20220806T213000
DESCRIPTION:Santander acoge cada año una nueva edición de la Feria del Li
 bro Viejo en el Plaza de Alfonso XIII. Horario de apertura de casetas: de 
 11 a 14 y de 17:30 a 21:30 horas.
SUMMARY:Feria del Libro Viejo de Santander
END:VEVENT
BEGIN:VEVENT
DTSTAMP:20260421T221040Z
UID:event-2533-2022-08-07T11:00:00+02:00-2022-08-07T14:00:00+02:00
DTSTART;TZID=Europe/Madrid:20220807T110000
DTEND;TZID=Europe/Madrid:20220807T140000
DESCRIPTION:Santander acoge cada año una nueva edición de la Feria del Li
 bro Viejo en el Plaza de Alfonso XIII. Horario de apertura de casetas: de 
 11 a 14 y de 17:30 a 21:30 horas.
SUMMARY:Feria del Libro Viejo de Santander
END:VEVENT
BEGIN:VEVENT
DTSTAMP:20260421T221040Z
UID:event-2533-2022-08-07T17:30:00+02:00-2022-08-07T21:30:00+02:00
DTSTART;TZID=Europe/Madrid:20220807T173000
DTEND;TZID=Europe/Madrid:20220807T213000
DESCRIPTION:Santander acoge cada año una nueva edición de la Feria del Li
 bro Viejo en el Plaza de Alfonso XIII. Horario de apertura de casetas: de 
 11 a 14 y de 17:30 a 21:30 horas.
SUMMARY:Feria del Libro Viejo de Santander
END:VEVENT
BEGIN:VEVENT
DTSTAMP:20260421T221040Z
UID:event-2533-2022-08-08T11:00:00+02:00-2022-08-08T14:00:00+02:00
DTSTART;TZID=Europe/Madrid:20220808T110000
DTEND;TZID=Europe/Madrid:20220808T140000
DESCRIPTION:Santander acoge cada año una nueva edición de la Feria del Li
 bro Viejo en el Plaza de Alfonso XIII. Horario de apertura de casetas: de 
 11 a 14 y de 17:30 a 21:30 horas.
SUMMARY:Feria del Libro Viejo de Santander
END:VEVENT
BEGIN:VEVENT
DTSTAMP:20260421T221040Z
UID:event-2533-2022-08-08T17:30:00+02:00-2022-08-08T21:30:00+02:00
DTSTART;TZID=Europe/Madrid:20220808T173000
DTEND;TZID=Europe/Madrid:20220808T213000
DESCRIPTION:Santander acoge cada año una nueva edición de la Feria del Li
 bro Viejo en el Plaza de Alfonso XIII. Horario de apertura de casetas: de 
 11 a 14 y de 17:30 a 21:30 horas.
SUMMARY:Feria del Libro Viejo de Santander
END:VEVENT
BEGIN:VEVENT
DTSTAMP:20260421T221040Z
UID:event-2533-2022-08-09T11:00:00+02:00-2022-08-09T14:00:00+02:00
DTSTART;TZID=Europe/Madrid:20220809T110000
DTEND;TZID=Europe/Madrid:20220809T140000
DESCRIPTION:Santander acoge cada año una nueva edición de la Feria del Li
 bro Viejo en el Plaza de Alfonso XIII. Horario de apertura de casetas: de 
 11 a 14 y de 17:30 a 21:30 horas.
SUMMARY:Feria del Libro Viejo de Santander
END:VEVENT
BEGIN:VEVENT
DTSTAMP:20260421T221040Z
UID:event-2533-2022-08-09T17:30:00+02:00-2022-08-09T21:30:00+02:00
DTSTART;TZID=Europe/Madrid:20220809T173000
DTEND;TZID=Europe/Madrid:20220809T213000
DESCRIPTION:Santander acoge cada año una nueva edición de la Feria del Li
 bro Viejo en el Plaza de Alfonso XIII. Horario de apertura de casetas: de 
 11 a 14 y de 17:30 a 21:30 horas.
SUMMARY:Feria del Libro Viejo de Santander
END:VEVENT
BEGIN:VEVENT
DTSTAMP:20260421T221040Z
UID:event-2533-2022-08-10T11:00:00+02:00-2022-08-10T14:00:00+02:00
DTSTART;TZID=Europe/Madrid:20220810T110000
DTEND;TZID=Europe/Madrid:20220810T140000
DESCRIPTION:Santander acoge cada año una nueva edición de la Feria del Li
 bro Viejo en el Plaza de Alfonso XIII. Horario de apertura de casetas: de 
 11 a 14 y de 17:30 a 21:30 horas.
SUMMARY:Feria del Libro Viejo de Santander
END:VEVENT
BEGIN:VEVENT
DTSTAMP:20260421T221040Z
UID:event-2533-2022-08-10T17:30:00+02:00-2022-08-10T21:30:00+02:00
DTSTART;TZID=Europe/Madrid:20220810T173000
DTEND;TZID=Europe/Madrid:20220810T213000
DESCRIPTION:Santander acoge cada año una nueva edición de la Feria del Li
 bro Viejo en el Plaza de Alfonso XIII. Horario de apertura de casetas: de 
 11 a 14 y de 17:30 a 21:30 horas.
SUMMARY:Feria del Libro Viejo de Santander
END:VEVENT
BEGIN:VEVENT
DTSTAMP:20260421T221040Z
UID:event-2533-2022-08-11T11:00:00+02:00-2022-08-11T14:00:00+02:00
DTSTART;TZID=Europe/Madrid:20220811T110000
DTEND;TZID=Europe/Madrid:20220811T140000
DESCRIPTION:Santander acoge cada año una nueva edición de la Feria del Li
 bro Viejo en el Plaza de Alfonso XIII. Horario de apertura de casetas: de 
 11 a 14 y de 17:30 a 21:30 horas.
SUMMARY:Feria del Libro Viejo de Santander
END:VEVENT
BEGIN:VEVENT
DTSTAMP:20260421T221040Z
UID:event-2533-2022-08-11T17:30:00+02:00-2022-08-11T21:30:00+02:00
DTSTART;TZID=Europe/Madrid:20220811T173000
DTEND;TZID=Europe/Madrid:20220811T213000
DESCRIPTION:Santander acoge cada año una nueva edición de la Feria del Li
 bro Viejo en el Plaza de Alfonso XIII. Horario de apertura de casetas: de 
 11 a 14 y de 17:30 a 21:30 horas.
SUMMARY:Feria del Libro Viejo de Santander
END:VEVENT
BEGIN:VEVENT
DTSTAMP:20260421T221040Z
UID:event-2533-2022-08-12T11:00:00+02:00-2022-08-12T14:00:00+02:00
DTSTART;TZID=Europe/Madrid:20220812T110000
DTEND;TZID=Europe/Madrid:20220812T140000
DESCRIPTION:Santander acoge cada año una nueva edición de la Feria del Li
 bro Viejo en el Plaza de Alfonso XIII. Horario de apertura de casetas: de 
 11 a 14 y de 17:30 a 21:30 horas.
SUMMARY:Feria del Libro Viejo de Santander
END:VEVENT
BEGIN:VEVENT
DTSTAMP:20260421T221040Z
UID:event-2533-2022-08-12T17:30:00+02:00-2022-08-12T21:30:00+02:00
DTSTART;TZID=Europe/Madrid:20220812T173000
DTEND;TZID=Europe/Madrid:20220812T213000
DESCRIPTION:Santander acoge cada año una nueva edición de la Feria del Li
 bro Viejo en el Plaza de Alfonso XIII. Horario de apertura de casetas: de 
 11 a 14 y de 17:30 a 21:30 horas.
SUMMARY:Feria del Libro Viejo de Santander
END:VEVENT
BEGIN:VEVENT
DTSTAMP:20260421T221040Z
UID:event-2533-2022-08-13T11:00:00+02:00-2022-08-13T14:00:00+02:00
DTSTART;TZID=Europe/Madrid:20220813T110000
DTEND;TZID=Europe/Madrid:20220813T140000
DESCRIPTION:Santander acoge cada año una nueva edición de la Feria del Li
 bro Viejo en el Plaza de Alfonso XIII. Horario de apertura de casetas: de 
 11 a 14 y de 17:30 a 21:30 horas.
SUMMARY:Feria del Libro Viejo de Santander
END:VEVENT
BEGIN:VEVENT
DTSTAMP:20260421T221040Z
UID:event-2533-2022-08-13T17:30:00+02:00-2022-08-13T21:30:00+02:00
DTSTART;TZID=Europe/Madrid:20220813T173000
DTEND;TZID=Europe/Madrid:20220813T213000
DESCRIPTION:Santander acoge cada año una nueva edición de la Feria del Li
 bro Viejo en el Plaza de Alfonso XIII. Horario de apertura de casetas: de 
 11 a 14 y de 17:30 a 21:30 horas.
SUMMARY:Feria del Libro Viejo de Santander
END:VEVENT
BEGIN:VEVENT
DTSTAMP:20260421T221040Z
UID:event-2533-2022-08-14T11:00:00+02:00-2022-08-14T14:00:00+02:00
DTSTART;TZID=Europe/Madrid:20220814T110000
DTEND;TZID=Europe/Madrid:20220814T140000
DESCRIPTION:Santander acoge cada año una nueva edición de la Feria del Li
 bro Viejo en el Plaza de Alfonso XIII. Horario de apertura de casetas: de 
 11 a 14 y de 17:30 a 21:30 horas.
SUMMARY:Feria del Libro Viejo de Santander
END:VEVENT
BEGIN:VEVENT
DTSTAMP:20260421T221040Z
UID:event-2533-2022-08-14T17:30:00+02:00-2022-08-14T21:30:00+02:00
DTSTART;TZID=Europe/Madrid:20220814T173000
DTEND;TZID=Europe/Madrid:20220814T213000
DESCRIPTION:Santander acoge cada año una nueva edición de la Feria del Li
 bro Viejo en el Plaza de Alfonso XIII. Horario de apertura de casetas: de 
 11 a 14 y de 17:30 a 21:30 horas.
SUMMARY:Feria del Libro Viejo de Santander
END:VEVENT
BEGIN:VEVENT
DTSTAMP:20260421T221040Z
UID:event-2533-2022-08-15T11:00:00+02:00-2022-08-15T14:00:00+02:00
DTSTART;TZID=Europe/Madrid:20220815T110000
DTEND;TZID=Europe/Madrid:20220815T140000
DESCRIPTION:Santander acoge cada año una nueva edición de la Feria del Li
 bro Viejo en el Plaza de Alfonso XIII. Horario de apertura de casetas: de 
 11 a 14 y de 17:30 a 21:30 horas.
SUMMARY:Feria del Libro Viejo de Santander
END:VEVENT
BEGIN:VEVENT
DTSTAMP:20260421T221040Z
UID:event-2533-2022-08-15T17:30:00+02:00-2022-08-15T21:30:00+02:00
DTSTART;TZID=Europe/Madrid:20220815T173000
DTEND;TZID=Europe/Madrid:20220815T213000
DESCRIPTION:Santander acoge cada año una nueva edición de la Feria del Li
 bro Viejo en el Plaza de Alfonso XIII. Horario de apertura de casetas: de 
 11 a 14 y de 17:30 a 21:30 horas.
SUMMARY:Feria del Libro Viejo de Santander
END:VEVENT
BEGIN:VEVENT
DTSTAMP:20260421T221040Z
UID:event-2533-2022-08-16T11:00:00+02:00-2022-08-16T14:00:00+02:00
DTSTART;TZID=Europe/Madrid:20220816T110000
DTEND;TZID=Europe/Madrid:20220816T140000
DESCRIPTION:Santander acoge cada año una nueva edición de la Feria del Li
 bro Viejo en el Plaza de Alfonso XIII. Horario de apertura de casetas: de 
 11 a 14 y de 17:30 a 21:30 horas.
SUMMARY:Feria del Libro Viejo de Santander
END:VEVENT
BEGIN:VEVENT
DTSTAMP:20260421T221040Z
UID:event-2533-2022-08-16T17:30:00+02:00-2022-08-16T21:30:00+02:00
DTSTART;TZID=Europe/Madrid:20220816T173000
DTEND;TZID=Europe/Madrid:20220816T213000
DESCRIPTION:Santander acoge cada año una nueva edición de la Feria del Li
 bro Viejo en el Plaza de Alfonso XIII. Horario de apertura de casetas: de 
 11 a 14 y de 17:30 a 21:30 horas.
SUMMARY:Feria del Libro Viejo de Santander
END:VEVENT
BEGIN:VEVENT
DTSTAMP:20260421T221040Z
UID:event-2533-2022-08-17T11:00:00+02:00-2022-08-17T14:00:00+02:00
DTSTART;TZID=Europe/Madrid:20220817T110000
DTEND;TZID=Europe/Madrid:20220817T140000
DESCRIPTION:Santander acoge cada año una nueva edición de la Feria del Li
 bro Viejo en el Plaza de Alfonso XIII. Horario de apertura de casetas: de 
 11 a 14 y de 17:30 a 21:30 horas.
SUMMARY:Feria del Libro Viejo de Santander
END:VEVENT
BEGIN:VEVENT
DTSTAMP:20260421T221040Z
UID:event-2533-2022-08-17T17:30:00+02:00-2022-08-17T21:30:00+02:00
DTSTART;TZID=Europe/Madrid:20220817T173000
DTEND;TZID=Europe/Madrid:20220817T213000
DESCRIPTION:Santander acoge cada año una nueva edición de la Feria del Li
 bro Viejo en el Plaza de Alfonso XIII. Horario de apertura de casetas: de 
 11 a 14 y de 17:30 a 21:30 horas.
SUMMARY:Feria del Libro Viejo de Santander
END:VEVENT
BEGIN:VEVENT
DTSTAMP:20260421T221040Z
UID:event-2533-2022-08-18T11:00:00+02:00-2022-08-18T14:00:00+02:00
DTSTART;TZID=Europe/Madrid:20220818T110000
DTEND;TZID=Europe/Madrid:20220818T140000
DESCRIPTION:Santander acoge cada año una nueva edición de la Feria del Li
 bro Viejo en el Plaza de Alfonso XIII. Horario de apertura de casetas: de 
 11 a 14 y de 17:30 a 21:30 horas.
SUMMARY:Feria del Libro Viejo de Santander
END:VEVENT
BEGIN:VEVENT
DTSTAMP:20260421T221040Z
UID:event-2533-2022-08-18T17:30:00+02:00-2022-08-18T21:30:00+02:00
DTSTART;TZID=Europe/Madrid:20220818T173000
DTEND;TZID=Europe/Madrid:20220818T213000
DESCRIPTION:Santander acoge cada año una nueva edición de la Feria del Li
 bro Viejo en el Plaza de Alfonso XIII. Horario de apertura de casetas: de 
 11 a 14 y de 17:30 a 21:30 horas.
SUMMARY:Feria del Libro Viejo de Santander
END:VEVENT
BEGIN:VEVENT
DTSTAMP:20260421T221040Z
UID:event-2533-2022-08-19T11:00:00+02:00-2022-08-19T14:00:00+02:00
DTSTART;TZID=Europe/Madrid:20220819T110000
DTEND;TZID=Europe/Madrid:20220819T140000
DESCRIPTION:Santander acoge cada año una nueva edición de la Feria del Li
 bro Viejo en el Plaza de Alfonso XIII. Horario de apertura de casetas: de 
 11 a 14 y de 17:30 a 21:30 horas.
SUMMARY:Feria del Libro Viejo de Santander
END:VEVENT
BEGIN:VEVENT
DTSTAMP:20260421T221040Z
UID:event-2533-2022-08-19T17:30:00+02:00-2022-08-19T21:30:00+02:00
DTSTART;TZID=Europe/Madrid:20220819T173000
DTEND;TZID=Europe/Madrid:20220819T213000
DESCRIPTION:Santander acoge cada año una nueva edición de la Feria del Li
 bro Viejo en el Plaza de Alfonso XIII. Horario de apertura de casetas: de 
 11 a 14 y de 17:30 a 21:30 horas.
SUMMARY:Feria del Libro Viejo de Santander
END:VEVENT
BEGIN:VEVENT
DTSTAMP:20260421T221040Z
UID:event-2533-2022-08-20T11:00:00+02:00-2022-08-20T14:00:00+02:00
DTSTART;TZID=Europe/Madrid:20220820T110000
DTEND;TZID=Europe/Madrid:20220820T140000
DESCRIPTION:Santander acoge cada año una nueva edición de la Feria del Li
 bro Viejo en el Plaza de Alfonso XIII. Horario de apertura de casetas: de 
 11 a 14 y de 17:30 a 21:30 horas.
SUMMARY:Feria del Libro Viejo de Santander
END:VEVENT
BEGIN:VEVENT
DTSTAMP:20260421T221040Z
UID:event-2533-2022-08-20T17:30:00+02:00-2022-08-20T21:30:00+02:00
DTSTART;TZID=Europe/Madrid:20220820T173000
DTEND;TZID=Europe/Madrid:20220820T213000
DESCRIPTION:Santander acoge cada año una nueva edición de la Feria del Li
 bro Viejo en el Plaza de Alfonso XIII. Horario de apertura de casetas: de 
 11 a 14 y de 17:30 a 21:30 horas.
SUMMARY:Feria del Libro Viejo de Santander
END:VEVENT
BEGIN:VEVENT
DTSTAMP:20260421T221040Z
UID:event-2533-2022-08-21T11:00:00+02:00-2022-08-21T14:00:00+02:00
DTSTART;TZID=Europe/Madrid:20220821T110000
DTEND;TZID=Europe/Madrid:20220821T140000
DESCRIPTION:Santander acoge cada año una nueva edición de la Feria del Li
 bro Viejo en el Plaza de Alfonso XIII. Horario de apertura de casetas: de 
 11 a 14 y de 17:30 a 21:30 horas.
SUMMARY:Feria del Libro Viejo de Santander
END:VEVENT
BEGIN:VEVENT
DTSTAMP:20260421T221040Z
UID:event-2533-2022-08-21T17:30:00+02:00-2022-08-21T21:30:00+02:00
DTSTART;TZID=Europe/Madrid:20220821T173000
DTEND;TZID=Europe/Madrid:20220821T213000
DESCRIPTION:Santander acoge cada año una nueva edición de la Feria del Li
 bro Viejo en el Plaza de Alfonso XIII. Horario de apertura de casetas: de 
 11 a 14 y de 17:30 a 21:30 horas.
SUMMARY:Feria del Libro Viejo de Santander
END:VEVENT
END:VCALENDAR
