BEGIN:VCALENDAR
VERSION:2.0
PRODID:icalendar-ruby
CALSCALE:GREGORIAN
METHOD:PUBLISH
BEGIN:VEVENT
DTSTAMP:20260423T174851Z
UID:event-7050-2023-07-22T11:00:00+02:00-2023-07-22T23:30:00+02:00
DTSTART;TZID=Europe/Madrid:20230722T110000
DTEND;TZID=Europe/Madrid:20230722T233000
DESCRIPTION:Dentro de la Semana Grande de Santander se celebra el Festival 
 Solidario Teresuca Fest\, que este año tendrá como escenario el Parque d
 e Jado.
SUMMARY:Festival solidario Teresuca Fest: conciertos y actividades infantil
 es
END:VEVENT
END:VCALENDAR
