BEGIN:VCALENDAR
VERSION:2.0
PRODID:icalendar-ruby
CALSCALE:GREGORIAN
METHOD:PUBLISH
BEGIN:VEVENT
DTSTAMP:20260423T160559Z
UID:event-18937-2025-10-11T11:00:00+02:00-2025-10-11T20:00:00+02:00
DTSTART;TZID=Europe/Madrid:20251011T110000
DTEND;TZID=Europe/Madrid:20251011T200000
DESCRIPTION:El Barrio Perines de Santander celebra las Fiestas del Pilar 20
 25.
SUMMARY:Fiestas del Pilar en Perines
END:VEVENT
BEGIN:VEVENT
DTSTAMP:20260423T160559Z
UID:event-18937-2025-10-12T12:00:00+02:00-2025-10-12T20:30:00+02:00
DTSTART;TZID=Europe/Madrid:20251012T120000
DTEND;TZID=Europe/Madrid:20251012T203000
DESCRIPTION:El Barrio Perines de Santander celebra las Fiestas del Pilar 20
 25.
SUMMARY:Fiestas del Pilar en Perines
END:VEVENT
END:VCALENDAR
