BEGIN:VCALENDAR
VERSION:2.0
PRODID:icalendar-ruby
CALSCALE:GREGORIAN
METHOD:PUBLISH
BEGIN:VEVENT
DTSTAMP:20260420T155957Z
UID:event-22326-2026-05-21T20:00:00+02:00-none
DTSTART;TZID=Europe/Madrid:20260521T200000
DESCRIPTION:Nuevo cuento de las "cuatro estaciones" de Rohmer. El joven Gas
 pard llega de vacaciones al balneario francés de Dinard. Su idea es encon
 trarse allí con Lena\, la muchacha que lo tiene loco.
SUMMARY:Filmoteca Universitaria: "Cuento de verano"\, de Éric Rohmer
END:VEVENT
END:VCALENDAR
