BEGIN:VCALENDAR
VERSION:2.0
PRODID:icalendar-ruby
CALSCALE:GREGORIAN
METHOD:PUBLISH
BEGIN:VEVENT
DTSTAMP:20260423T084417Z
UID:event-20608-2026-02-12T20:00:00+01:00-none
DTSTART;TZID=Europe/Madrid:20260212T200000
DESCRIPTION:Toni\, cristiano libanés\, riega las plantas de su balcón. Un
  poco de agua se derrama accidentalmente en la cabeza de Yasser\, palestin
 o y capataz de una obra. Entonces estalla una pelea. Yasser\, furioso\, in
 sulta a Toni. 
SUMMARY:Filmoteca Universitaria: "El insulto"\, de Ziad Doueiri
END:VEVENT
END:VCALENDAR
