BEGIN:VCALENDAR
VERSION:2.0
PRODID:icalendar-ruby
CALSCALE:GREGORIAN
METHOD:PUBLISH
BEGIN:VEVENT
DTSTAMP:20260420T144119Z
UID:event-2722-2022-09-08T18:00:00+02:00-2022-09-08T21:00:00+02:00
DTSTART;TZID=Europe/Madrid:20220908T180000
DTEND;TZID=Europe/Madrid:20220908T210000
DESCRIPTION:Gustave Le Gray reivindicó el papel artístico de la fotograf
 ía\, alcanzando la mayor admiración y reconocimiento por la serie de mar
 inas tomadas entre 1856 y 1857.
SUMMARY:Fotografías de lo sublime. Las Marinas de Gustave Le Gray
END:VEVENT
BEGIN:VEVENT
DTSTAMP:20260420T144119Z
UID:event-2722-2022-09-09T18:00:00+02:00-2022-09-09T21:00:00+02:00
DTSTART;TZID=Europe/Madrid:20220909T180000
DTEND;TZID=Europe/Madrid:20220909T210000
DESCRIPTION:Gustave Le Gray reivindicó el papel artístico de la fotograf
 ía\, alcanzando la mayor admiración y reconocimiento por la serie de mar
 inas tomadas entre 1856 y 1857.
SUMMARY:Fotografías de lo sublime. Las Marinas de Gustave Le Gray
END:VEVENT
BEGIN:VEVENT
DTSTAMP:20260420T144119Z
UID:event-2722-2022-09-10T18:00:00+02:00-2022-09-10T21:00:00+02:00
DTSTART;TZID=Europe/Madrid:20220910T180000
DTEND;TZID=Europe/Madrid:20220910T210000
DESCRIPTION:Gustave Le Gray reivindicó el papel artístico de la fotograf
 ía\, alcanzando la mayor admiración y reconocimiento por la serie de mar
 inas tomadas entre 1856 y 1857.
SUMMARY:Fotografías de lo sublime. Las Marinas de Gustave Le Gray
END:VEVENT
BEGIN:VEVENT
DTSTAMP:20260420T144119Z
UID:event-2722-2022-09-12T18:00:00+02:00-2022-09-12T21:00:00+02:00
DTSTART;TZID=Europe/Madrid:20220912T180000
DTEND;TZID=Europe/Madrid:20220912T210000
DESCRIPTION:Gustave Le Gray reivindicó el papel artístico de la fotograf
 ía\, alcanzando la mayor admiración y reconocimiento por la serie de mar
 inas tomadas entre 1856 y 1857.
SUMMARY:Fotografías de lo sublime. Las Marinas de Gustave Le Gray
END:VEVENT
BEGIN:VEVENT
DTSTAMP:20260420T144119Z
UID:event-2722-2022-09-13T18:00:00+02:00-2022-09-13T21:00:00+02:00
DTSTART;TZID=Europe/Madrid:20220913T180000
DTEND;TZID=Europe/Madrid:20220913T210000
DESCRIPTION:Gustave Le Gray reivindicó el papel artístico de la fotograf
 ía\, alcanzando la mayor admiración y reconocimiento por la serie de mar
 inas tomadas entre 1856 y 1857.
SUMMARY:Fotografías de lo sublime. Las Marinas de Gustave Le Gray
END:VEVENT
BEGIN:VEVENT
DTSTAMP:20260420T144119Z
UID:event-2722-2022-09-14T18:00:00+02:00-2022-09-14T21:00:00+02:00
DTSTART;TZID=Europe/Madrid:20220914T180000
DTEND;TZID=Europe/Madrid:20220914T210000
DESCRIPTION:Gustave Le Gray reivindicó el papel artístico de la fotograf
 ía\, alcanzando la mayor admiración y reconocimiento por la serie de mar
 inas tomadas entre 1856 y 1857.
SUMMARY:Fotografías de lo sublime. Las Marinas de Gustave Le Gray
END:VEVENT
BEGIN:VEVENT
DTSTAMP:20260420T144119Z
UID:event-2722-2022-09-15T18:00:00+02:00-2022-09-15T21:00:00+02:00
DTSTART;TZID=Europe/Madrid:20220915T180000
DTEND;TZID=Europe/Madrid:20220915T210000
DESCRIPTION:Gustave Le Gray reivindicó el papel artístico de la fotograf
 ía\, alcanzando la mayor admiración y reconocimiento por la serie de mar
 inas tomadas entre 1856 y 1857.
SUMMARY:Fotografías de lo sublime. Las Marinas de Gustave Le Gray
END:VEVENT
BEGIN:VEVENT
DTSTAMP:20260420T144119Z
UID:event-2722-2022-09-16T18:00:00+02:00-2022-09-16T21:00:00+02:00
DTSTART;TZID=Europe/Madrid:20220916T180000
DTEND;TZID=Europe/Madrid:20220916T210000
DESCRIPTION:Gustave Le Gray reivindicó el papel artístico de la fotograf
 ía\, alcanzando la mayor admiración y reconocimiento por la serie de mar
 inas tomadas entre 1856 y 1857.
SUMMARY:Fotografías de lo sublime. Las Marinas de Gustave Le Gray
END:VEVENT
BEGIN:VEVENT
DTSTAMP:20260420T144119Z
UID:event-2722-2022-09-17T18:00:00+02:00-2022-09-17T21:00:00+02:00
DTSTART;TZID=Europe/Madrid:20220917T180000
DTEND;TZID=Europe/Madrid:20220917T210000
DESCRIPTION:Gustave Le Gray reivindicó el papel artístico de la fotograf
 ía\, alcanzando la mayor admiración y reconocimiento por la serie de mar
 inas tomadas entre 1856 y 1857.
SUMMARY:Fotografías de lo sublime. Las Marinas de Gustave Le Gray
END:VEVENT
BEGIN:VEVENT
DTSTAMP:20260420T144119Z
UID:event-2722-2022-09-19T18:00:00+02:00-2022-09-19T21:00:00+02:00
DTSTART;TZID=Europe/Madrid:20220919T180000
DTEND;TZID=Europe/Madrid:20220919T210000
DESCRIPTION:Gustave Le Gray reivindicó el papel artístico de la fotograf
 ía\, alcanzando la mayor admiración y reconocimiento por la serie de mar
 inas tomadas entre 1856 y 1857.
SUMMARY:Fotografías de lo sublime. Las Marinas de Gustave Le Gray
END:VEVENT
BEGIN:VEVENT
DTSTAMP:20260420T144119Z
UID:event-2722-2022-09-20T18:00:00+02:00-2022-09-20T21:00:00+02:00
DTSTART;TZID=Europe/Madrid:20220920T180000
DTEND;TZID=Europe/Madrid:20220920T210000
DESCRIPTION:Gustave Le Gray reivindicó el papel artístico de la fotograf
 ía\, alcanzando la mayor admiración y reconocimiento por la serie de mar
 inas tomadas entre 1856 y 1857.
SUMMARY:Fotografías de lo sublime. Las Marinas de Gustave Le Gray
END:VEVENT
BEGIN:VEVENT
DTSTAMP:20260420T144119Z
UID:event-2722-2022-09-21T18:00:00+02:00-2022-09-21T21:00:00+02:00
DTSTART;TZID=Europe/Madrid:20220921T180000
DTEND;TZID=Europe/Madrid:20220921T210000
DESCRIPTION:Gustave Le Gray reivindicó el papel artístico de la fotograf
 ía\, alcanzando la mayor admiración y reconocimiento por la serie de mar
 inas tomadas entre 1856 y 1857.
SUMMARY:Fotografías de lo sublime. Las Marinas de Gustave Le Gray
END:VEVENT
BEGIN:VEVENT
DTSTAMP:20260420T144119Z
UID:event-2722-2022-09-22T18:00:00+02:00-2022-09-22T21:00:00+02:00
DTSTART;TZID=Europe/Madrid:20220922T180000
DTEND;TZID=Europe/Madrid:20220922T210000
DESCRIPTION:Gustave Le Gray reivindicó el papel artístico de la fotograf
 ía\, alcanzando la mayor admiración y reconocimiento por la serie de mar
 inas tomadas entre 1856 y 1857.
SUMMARY:Fotografías de lo sublime. Las Marinas de Gustave Le Gray
END:VEVENT
BEGIN:VEVENT
DTSTAMP:20260420T144119Z
UID:event-2722-2022-09-23T18:00:00+02:00-2022-09-23T21:00:00+02:00
DTSTART;TZID=Europe/Madrid:20220923T180000
DTEND;TZID=Europe/Madrid:20220923T210000
DESCRIPTION:Gustave Le Gray reivindicó el papel artístico de la fotograf
 ía\, alcanzando la mayor admiración y reconocimiento por la serie de mar
 inas tomadas entre 1856 y 1857.
SUMMARY:Fotografías de lo sublime. Las Marinas de Gustave Le Gray
END:VEVENT
BEGIN:VEVENT
DTSTAMP:20260420T144119Z
UID:event-2722-2022-09-24T18:00:00+02:00-2022-09-24T21:00:00+02:00
DTSTART;TZID=Europe/Madrid:20220924T180000
DTEND;TZID=Europe/Madrid:20220924T210000
DESCRIPTION:Gustave Le Gray reivindicó el papel artístico de la fotograf
 ía\, alcanzando la mayor admiración y reconocimiento por la serie de mar
 inas tomadas entre 1856 y 1857.
SUMMARY:Fotografías de lo sublime. Las Marinas de Gustave Le Gray
END:VEVENT
BEGIN:VEVENT
DTSTAMP:20260420T144119Z
UID:event-2722-2022-09-26T18:00:00+02:00-2022-09-26T21:00:00+02:00
DTSTART;TZID=Europe/Madrid:20220926T180000
DTEND;TZID=Europe/Madrid:20220926T210000
DESCRIPTION:Gustave Le Gray reivindicó el papel artístico de la fotograf
 ía\, alcanzando la mayor admiración y reconocimiento por la serie de mar
 inas tomadas entre 1856 y 1857.
SUMMARY:Fotografías de lo sublime. Las Marinas de Gustave Le Gray
END:VEVENT
BEGIN:VEVENT
DTSTAMP:20260420T144119Z
UID:event-2722-2022-09-27T18:00:00+02:00-2022-09-27T21:00:00+02:00
DTSTART;TZID=Europe/Madrid:20220927T180000
DTEND;TZID=Europe/Madrid:20220927T210000
DESCRIPTION:Gustave Le Gray reivindicó el papel artístico de la fotograf
 ía\, alcanzando la mayor admiración y reconocimiento por la serie de mar
 inas tomadas entre 1856 y 1857.
SUMMARY:Fotografías de lo sublime. Las Marinas de Gustave Le Gray
END:VEVENT
BEGIN:VEVENT
DTSTAMP:20260420T144119Z
UID:event-2722-2022-09-28T18:00:00+02:00-2022-09-28T21:00:00+02:00
DTSTART;TZID=Europe/Madrid:20220928T180000
DTEND;TZID=Europe/Madrid:20220928T210000
DESCRIPTION:Gustave Le Gray reivindicó el papel artístico de la fotograf
 ía\, alcanzando la mayor admiración y reconocimiento por la serie de mar
 inas tomadas entre 1856 y 1857.
SUMMARY:Fotografías de lo sublime. Las Marinas de Gustave Le Gray
END:VEVENT
BEGIN:VEVENT
DTSTAMP:20260420T144119Z
UID:event-2722-2022-09-29T18:00:00+02:00-2022-09-29T21:00:00+02:00
DTSTART;TZID=Europe/Madrid:20220929T180000
DTEND;TZID=Europe/Madrid:20220929T210000
DESCRIPTION:Gustave Le Gray reivindicó el papel artístico de la fotograf
 ía\, alcanzando la mayor admiración y reconocimiento por la serie de mar
 inas tomadas entre 1856 y 1857.
SUMMARY:Fotografías de lo sublime. Las Marinas de Gustave Le Gray
END:VEVENT
BEGIN:VEVENT
DTSTAMP:20260420T144119Z
UID:event-2722-2022-09-30T18:00:00+02:00-2022-09-30T21:00:00+02:00
DTSTART;TZID=Europe/Madrid:20220930T180000
DTEND;TZID=Europe/Madrid:20220930T210000
DESCRIPTION:Gustave Le Gray reivindicó el papel artístico de la fotograf
 ía\, alcanzando la mayor admiración y reconocimiento por la serie de mar
 inas tomadas entre 1856 y 1857.
SUMMARY:Fotografías de lo sublime. Las Marinas de Gustave Le Gray
END:VEVENT
BEGIN:VEVENT
DTSTAMP:20260420T144119Z
UID:event-2722-2022-10-01T18:00:00+02:00-2022-10-01T21:00:00+02:00
DTSTART;TZID=Europe/Madrid:20221001T180000
DTEND;TZID=Europe/Madrid:20221001T210000
DESCRIPTION:Gustave Le Gray reivindicó el papel artístico de la fotograf
 ía\, alcanzando la mayor admiración y reconocimiento por la serie de mar
 inas tomadas entre 1856 y 1857.
SUMMARY:Fotografías de lo sublime. Las Marinas de Gustave Le Gray
END:VEVENT
END:VCALENDAR
