BEGIN:VCALENDAR
VERSION:2.0
PRODID:icalendar-ruby
CALSCALE:GREGORIAN
METHOD:PUBLISH
BEGIN:VEVENT
DTSTAMP:20260421T164708Z
UID:event-7342-2023-09-24T19:30:00+02:00-none
DTSTART;TZID=Europe/Madrid:20230924T193000
DESCRIPTION:El famoso y prestigioso Gran Circo Acrobático de China es un d
 eleite para los cinco sentidos. Calificado como único en el mundo y con m
 ás de 30 artistas en escena\, la mayoría medallistas olímpicos y alguno
 s procedentes del Cirque du Soleil.
SUMMARY:Gran Circo Acrobático de China
END:VEVENT
END:VCALENDAR
