BEGIN:VCALENDAR
VERSION:2.0
PRODID:icalendar-ruby
CALSCALE:GREGORIAN
METHOD:PUBLISH
BEGIN:VEVENT
DTSTAMP:20260423T153208Z
UID:event-19881-2025-12-06T17:00:00+01:00-none
DTSTART;TZID=Europe/Madrid:20251206T170000
DESCRIPTION:Walt Kowalski (Clint Eastwood)\, un veterano de la guerra de Co
 rea (1950-1953)\, es un obrero jubilado del sector del automóvil que ha e
 nviudado recientemente. Su máxima pasión es cuidar de su más preciado t
 esoro: un coche Gran Torino.
SUMMARY:"Gran Torino"\, de Clint Eastwood (V.O.S.E.)
END:VEVENT
BEGIN:VEVENT
DTSTAMP:20260423T153208Z
UID:event-19881-2025-12-07T20:00:00+01:00-none
DTSTART;TZID=Europe/Madrid:20251207T200000
DESCRIPTION:Walt Kowalski (Clint Eastwood)\, un veterano de la guerra de Co
 rea (1950-1953)\, es un obrero jubilado del sector del automóvil que ha e
 nviudado recientemente. Su máxima pasión es cuidar de su más preciado t
 esoro: un coche Gran Torino.
SUMMARY:"Gran Torino"\, de Clint Eastwood (V.O.S.E.)
END:VEVENT
END:VCALENDAR
