BEGIN:VCALENDAR
VERSION:2.0
PRODID:icalendar-ruby
CALSCALE:GREGORIAN
METHOD:PUBLISH
BEGIN:VEVENT
DTSTAMP:20260423T101309Z
UID:event-17991-2025-08-27T19:00:00+02:00-none
DTSTART;TZID=Europe/Madrid:20250827T190000
DESCRIPTION:Los Campos de Sport del Sardinero acogerán un año más la XVI
 II edición del Festival Intercultural de las Naciones\, un evento emblem
 ático que celebra la diversidad cultural y el talento artístico de nuest
 ra ciudad. 
SUMMARY:Hoy en el Festival Intercultural de las Naciones 
END:VEVENT
END:VCALENDAR
