BEGIN:VCALENDAR
VERSION:2.0
PRODID:icalendar-ruby
CALSCALE:GREGORIAN
METHOD:PUBLISH
BEGIN:VEVENT
DTSTAMP:20260422T010345Z
UID:event-2770-2022-08-05T10:00:00+02:00-2022-08-05T13:00:00+02:00
DTSTART;TZID=Europe/Madrid:20220805T100000
DTEND;TZID=Europe/Madrid:20220805T130000
DESCRIPTION:Una serie de retratos al óleo y cera fría sobre lino componen
  esta exposición inspirada en mujeres artistas que se han abierto paso en
  mundos que sólo correspondían a hombres.
SUMMARY:"I´m a woman. Hear me roar"\, de TKM XOXO
END:VEVENT
BEGIN:VEVENT
DTSTAMP:20260422T010345Z
UID:event-2770-2022-08-05T17:00:00+02:00-2022-08-05T20:00:00+02:00
DTSTART;TZID=Europe/Madrid:20220805T170000
DTEND;TZID=Europe/Madrid:20220805T200000
DESCRIPTION:Una serie de retratos al óleo y cera fría sobre lino componen
  esta exposición inspirada en mujeres artistas que se han abierto paso en
  mundos que sólo correspondían a hombres.
SUMMARY:"I´m a woman. Hear me roar"\, de TKM XOXO
END:VEVENT
BEGIN:VEVENT
DTSTAMP:20260422T010345Z
UID:event-2770-2022-08-06T10:00:00+02:00-2022-08-06T13:00:00+02:00
DTSTART;TZID=Europe/Madrid:20220806T100000
DTEND;TZID=Europe/Madrid:20220806T130000
DESCRIPTION:Una serie de retratos al óleo y cera fría sobre lino componen
  esta exposición inspirada en mujeres artistas que se han abierto paso en
  mundos que sólo correspondían a hombres.
SUMMARY:"I´m a woman. Hear me roar"\, de TKM XOXO
END:VEVENT
BEGIN:VEVENT
DTSTAMP:20260422T010345Z
UID:event-2770-2022-08-06T17:00:00+02:00-2022-08-06T20:00:00+02:00
DTSTART;TZID=Europe/Madrid:20220806T170000
DTEND;TZID=Europe/Madrid:20220806T200000
DESCRIPTION:Una serie de retratos al óleo y cera fría sobre lino componen
  esta exposición inspirada en mujeres artistas que se han abierto paso en
  mundos que sólo correspondían a hombres.
SUMMARY:"I´m a woman. Hear me roar"\, de TKM XOXO
END:VEVENT
BEGIN:VEVENT
DTSTAMP:20260422T010345Z
UID:event-2770-2022-08-07T10:00:00+02:00-2022-08-07T13:00:00+02:00
DTSTART;TZID=Europe/Madrid:20220807T100000
DTEND;TZID=Europe/Madrid:20220807T130000
DESCRIPTION:Una serie de retratos al óleo y cera fría sobre lino componen
  esta exposición inspirada en mujeres artistas que se han abierto paso en
  mundos que sólo correspondían a hombres.
SUMMARY:"I´m a woman. Hear me roar"\, de TKM XOXO
END:VEVENT
BEGIN:VEVENT
DTSTAMP:20260422T010345Z
UID:event-2770-2022-08-07T17:00:00+02:00-2022-08-07T20:00:00+02:00
DTSTART;TZID=Europe/Madrid:20220807T170000
DTEND;TZID=Europe/Madrid:20220807T200000
DESCRIPTION:Una serie de retratos al óleo y cera fría sobre lino componen
  esta exposición inspirada en mujeres artistas que se han abierto paso en
  mundos que sólo correspondían a hombres.
SUMMARY:"I´m a woman. Hear me roar"\, de TKM XOXO
END:VEVENT
BEGIN:VEVENT
DTSTAMP:20260422T010345Z
UID:event-2770-2022-08-08T10:00:00+02:00-2022-08-08T13:00:00+02:00
DTSTART;TZID=Europe/Madrid:20220808T100000
DTEND;TZID=Europe/Madrid:20220808T130000
DESCRIPTION:Una serie de retratos al óleo y cera fría sobre lino componen
  esta exposición inspirada en mujeres artistas que se han abierto paso en
  mundos que sólo correspondían a hombres.
SUMMARY:"I´m a woman. Hear me roar"\, de TKM XOXO
END:VEVENT
BEGIN:VEVENT
DTSTAMP:20260422T010345Z
UID:event-2770-2022-08-08T17:00:00+02:00-2022-08-08T20:00:00+02:00
DTSTART;TZID=Europe/Madrid:20220808T170000
DTEND;TZID=Europe/Madrid:20220808T200000
DESCRIPTION:Una serie de retratos al óleo y cera fría sobre lino componen
  esta exposición inspirada en mujeres artistas que se han abierto paso en
  mundos que sólo correspondían a hombres.
SUMMARY:"I´m a woman. Hear me roar"\, de TKM XOXO
END:VEVENT
BEGIN:VEVENT
DTSTAMP:20260422T010345Z
UID:event-2770-2022-08-09T10:00:00+02:00-2022-08-09T13:00:00+02:00
DTSTART;TZID=Europe/Madrid:20220809T100000
DTEND;TZID=Europe/Madrid:20220809T130000
DESCRIPTION:Una serie de retratos al óleo y cera fría sobre lino componen
  esta exposición inspirada en mujeres artistas que se han abierto paso en
  mundos que sólo correspondían a hombres.
SUMMARY:"I´m a woman. Hear me roar"\, de TKM XOXO
END:VEVENT
BEGIN:VEVENT
DTSTAMP:20260422T010345Z
UID:event-2770-2022-08-09T17:00:00+02:00-2022-08-09T20:00:00+02:00
DTSTART;TZID=Europe/Madrid:20220809T170000
DTEND;TZID=Europe/Madrid:20220809T200000
DESCRIPTION:Una serie de retratos al óleo y cera fría sobre lino componen
  esta exposición inspirada en mujeres artistas que se han abierto paso en
  mundos que sólo correspondían a hombres.
SUMMARY:"I´m a woman. Hear me roar"\, de TKM XOXO
END:VEVENT
BEGIN:VEVENT
DTSTAMP:20260422T010345Z
UID:event-2770-2022-08-10T10:00:00+02:00-2022-08-10T13:00:00+02:00
DTSTART;TZID=Europe/Madrid:20220810T100000
DTEND;TZID=Europe/Madrid:20220810T130000
DESCRIPTION:Una serie de retratos al óleo y cera fría sobre lino componen
  esta exposición inspirada en mujeres artistas que se han abierto paso en
  mundos que sólo correspondían a hombres.
SUMMARY:"I´m a woman. Hear me roar"\, de TKM XOXO
END:VEVENT
BEGIN:VEVENT
DTSTAMP:20260422T010345Z
UID:event-2770-2022-08-10T17:00:00+02:00-2022-08-10T20:00:00+02:00
DTSTART;TZID=Europe/Madrid:20220810T170000
DTEND;TZID=Europe/Madrid:20220810T200000
DESCRIPTION:Una serie de retratos al óleo y cera fría sobre lino componen
  esta exposición inspirada en mujeres artistas que se han abierto paso en
  mundos que sólo correspondían a hombres.
SUMMARY:"I´m a woman. Hear me roar"\, de TKM XOXO
END:VEVENT
BEGIN:VEVENT
DTSTAMP:20260422T010345Z
UID:event-2770-2022-08-11T10:00:00+02:00-2022-08-11T13:00:00+02:00
DTSTART;TZID=Europe/Madrid:20220811T100000
DTEND;TZID=Europe/Madrid:20220811T130000
DESCRIPTION:Una serie de retratos al óleo y cera fría sobre lino componen
  esta exposición inspirada en mujeres artistas que se han abierto paso en
  mundos que sólo correspondían a hombres.
SUMMARY:"I´m a woman. Hear me roar"\, de TKM XOXO
END:VEVENT
BEGIN:VEVENT
DTSTAMP:20260422T010345Z
UID:event-2770-2022-08-11T17:00:00+02:00-2022-08-11T20:00:00+02:00
DTSTART;TZID=Europe/Madrid:20220811T170000
DTEND;TZID=Europe/Madrid:20220811T200000
DESCRIPTION:Una serie de retratos al óleo y cera fría sobre lino componen
  esta exposición inspirada en mujeres artistas que se han abierto paso en
  mundos que sólo correspondían a hombres.
SUMMARY:"I´m a woman. Hear me roar"\, de TKM XOXO
END:VEVENT
BEGIN:VEVENT
DTSTAMP:20260422T010345Z
UID:event-2770-2022-08-12T10:00:00+02:00-2022-08-12T13:00:00+02:00
DTSTART;TZID=Europe/Madrid:20220812T100000
DTEND;TZID=Europe/Madrid:20220812T130000
DESCRIPTION:Una serie de retratos al óleo y cera fría sobre lino componen
  esta exposición inspirada en mujeres artistas que se han abierto paso en
  mundos que sólo correspondían a hombres.
SUMMARY:"I´m a woman. Hear me roar"\, de TKM XOXO
END:VEVENT
BEGIN:VEVENT
DTSTAMP:20260422T010345Z
UID:event-2770-2022-08-12T17:00:00+02:00-2022-08-12T20:00:00+02:00
DTSTART;TZID=Europe/Madrid:20220812T170000
DTEND;TZID=Europe/Madrid:20220812T200000
DESCRIPTION:Una serie de retratos al óleo y cera fría sobre lino componen
  esta exposición inspirada en mujeres artistas que se han abierto paso en
  mundos que sólo correspondían a hombres.
SUMMARY:"I´m a woman. Hear me roar"\, de TKM XOXO
END:VEVENT
BEGIN:VEVENT
DTSTAMP:20260422T010345Z
UID:event-2770-2022-08-13T10:00:00+02:00-2022-08-13T13:00:00+02:00
DTSTART;TZID=Europe/Madrid:20220813T100000
DTEND;TZID=Europe/Madrid:20220813T130000
DESCRIPTION:Una serie de retratos al óleo y cera fría sobre lino componen
  esta exposición inspirada en mujeres artistas que se han abierto paso en
  mundos que sólo correspondían a hombres.
SUMMARY:"I´m a woman. Hear me roar"\, de TKM XOXO
END:VEVENT
BEGIN:VEVENT
DTSTAMP:20260422T010345Z
UID:event-2770-2022-08-13T17:00:00+02:00-2022-08-13T20:00:00+02:00
DTSTART;TZID=Europe/Madrid:20220813T170000
DTEND;TZID=Europe/Madrid:20220813T200000
DESCRIPTION:Una serie de retratos al óleo y cera fría sobre lino componen
  esta exposición inspirada en mujeres artistas que se han abierto paso en
  mundos que sólo correspondían a hombres.
SUMMARY:"I´m a woman. Hear me roar"\, de TKM XOXO
END:VEVENT
BEGIN:VEVENT
DTSTAMP:20260422T010345Z
UID:event-2770-2022-08-14T10:00:00+02:00-2022-08-14T13:00:00+02:00
DTSTART;TZID=Europe/Madrid:20220814T100000
DTEND;TZID=Europe/Madrid:20220814T130000
DESCRIPTION:Una serie de retratos al óleo y cera fría sobre lino componen
  esta exposición inspirada en mujeres artistas que se han abierto paso en
  mundos que sólo correspondían a hombres.
SUMMARY:"I´m a woman. Hear me roar"\, de TKM XOXO
END:VEVENT
BEGIN:VEVENT
DTSTAMP:20260422T010345Z
UID:event-2770-2022-08-14T17:00:00+02:00-2022-08-14T20:00:00+02:00
DTSTART;TZID=Europe/Madrid:20220814T170000
DTEND;TZID=Europe/Madrid:20220814T200000
DESCRIPTION:Una serie de retratos al óleo y cera fría sobre lino componen
  esta exposición inspirada en mujeres artistas que se han abierto paso en
  mundos que sólo correspondían a hombres.
SUMMARY:"I´m a woman. Hear me roar"\, de TKM XOXO
END:VEVENT
BEGIN:VEVENT
DTSTAMP:20260422T010345Z
UID:event-2770-2022-08-15T10:00:00+02:00-2022-08-15T13:00:00+02:00
DTSTART;TZID=Europe/Madrid:20220815T100000
DTEND;TZID=Europe/Madrid:20220815T130000
DESCRIPTION:Una serie de retratos al óleo y cera fría sobre lino componen
  esta exposición inspirada en mujeres artistas que se han abierto paso en
  mundos que sólo correspondían a hombres.
SUMMARY:"I´m a woman. Hear me roar"\, de TKM XOXO
END:VEVENT
BEGIN:VEVENT
DTSTAMP:20260422T010345Z
UID:event-2770-2022-08-15T17:00:00+02:00-2022-08-15T20:00:00+02:00
DTSTART;TZID=Europe/Madrid:20220815T170000
DTEND;TZID=Europe/Madrid:20220815T200000
DESCRIPTION:Una serie de retratos al óleo y cera fría sobre lino componen
  esta exposición inspirada en mujeres artistas que se han abierto paso en
  mundos que sólo correspondían a hombres.
SUMMARY:"I´m a woman. Hear me roar"\, de TKM XOXO
END:VEVENT
BEGIN:VEVENT
DTSTAMP:20260422T010345Z
UID:event-2770-2022-08-16T10:00:00+02:00-2022-08-16T13:00:00+02:00
DTSTART;TZID=Europe/Madrid:20220816T100000
DTEND;TZID=Europe/Madrid:20220816T130000
DESCRIPTION:Una serie de retratos al óleo y cera fría sobre lino componen
  esta exposición inspirada en mujeres artistas que se han abierto paso en
  mundos que sólo correspondían a hombres.
SUMMARY:"I´m a woman. Hear me roar"\, de TKM XOXO
END:VEVENT
BEGIN:VEVENT
DTSTAMP:20260422T010345Z
UID:event-2770-2022-08-16T17:00:00+02:00-2022-08-16T20:00:00+02:00
DTSTART;TZID=Europe/Madrid:20220816T170000
DTEND;TZID=Europe/Madrid:20220816T200000
DESCRIPTION:Una serie de retratos al óleo y cera fría sobre lino componen
  esta exposición inspirada en mujeres artistas que se han abierto paso en
  mundos que sólo correspondían a hombres.
SUMMARY:"I´m a woman. Hear me roar"\, de TKM XOXO
END:VEVENT
BEGIN:VEVENT
DTSTAMP:20260422T010345Z
UID:event-2770-2022-08-17T10:00:00+02:00-2022-08-17T13:00:00+02:00
DTSTART;TZID=Europe/Madrid:20220817T100000
DTEND;TZID=Europe/Madrid:20220817T130000
DESCRIPTION:Una serie de retratos al óleo y cera fría sobre lino componen
  esta exposición inspirada en mujeres artistas que se han abierto paso en
  mundos que sólo correspondían a hombres.
SUMMARY:"I´m a woman. Hear me roar"\, de TKM XOXO
END:VEVENT
BEGIN:VEVENT
DTSTAMP:20260422T010345Z
UID:event-2770-2022-08-17T17:00:00+02:00-2022-08-17T20:00:00+02:00
DTSTART;TZID=Europe/Madrid:20220817T170000
DTEND;TZID=Europe/Madrid:20220817T200000
DESCRIPTION:Una serie de retratos al óleo y cera fría sobre lino componen
  esta exposición inspirada en mujeres artistas que se han abierto paso en
  mundos que sólo correspondían a hombres.
SUMMARY:"I´m a woman. Hear me roar"\, de TKM XOXO
END:VEVENT
BEGIN:VEVENT
DTSTAMP:20260422T010345Z
UID:event-2770-2022-08-18T10:00:00+02:00-2022-08-18T13:00:00+02:00
DTSTART;TZID=Europe/Madrid:20220818T100000
DTEND;TZID=Europe/Madrid:20220818T130000
DESCRIPTION:Una serie de retratos al óleo y cera fría sobre lino componen
  esta exposición inspirada en mujeres artistas que se han abierto paso en
  mundos que sólo correspondían a hombres.
SUMMARY:"I´m a woman. Hear me roar"\, de TKM XOXO
END:VEVENT
BEGIN:VEVENT
DTSTAMP:20260422T010345Z
UID:event-2770-2022-08-18T17:00:00+02:00-2022-08-18T20:00:00+02:00
DTSTART;TZID=Europe/Madrid:20220818T170000
DTEND;TZID=Europe/Madrid:20220818T200000
DESCRIPTION:Una serie de retratos al óleo y cera fría sobre lino componen
  esta exposición inspirada en mujeres artistas que se han abierto paso en
  mundos que sólo correspondían a hombres.
SUMMARY:"I´m a woman. Hear me roar"\, de TKM XOXO
END:VEVENT
BEGIN:VEVENT
DTSTAMP:20260422T010345Z
UID:event-2770-2022-08-19T10:00:00+02:00-2022-08-19T13:00:00+02:00
DTSTART;TZID=Europe/Madrid:20220819T100000
DTEND;TZID=Europe/Madrid:20220819T130000
DESCRIPTION:Una serie de retratos al óleo y cera fría sobre lino componen
  esta exposición inspirada en mujeres artistas que se han abierto paso en
  mundos que sólo correspondían a hombres.
SUMMARY:"I´m a woman. Hear me roar"\, de TKM XOXO
END:VEVENT
BEGIN:VEVENT
DTSTAMP:20260422T010345Z
UID:event-2770-2022-08-19T17:00:00+02:00-2022-08-19T20:00:00+02:00
DTSTART;TZID=Europe/Madrid:20220819T170000
DTEND;TZID=Europe/Madrid:20220819T200000
DESCRIPTION:Una serie de retratos al óleo y cera fría sobre lino componen
  esta exposición inspirada en mujeres artistas que se han abierto paso en
  mundos que sólo correspondían a hombres.
SUMMARY:"I´m a woman. Hear me roar"\, de TKM XOXO
END:VEVENT
BEGIN:VEVENT
DTSTAMP:20260422T010345Z
UID:event-2770-2022-08-20T10:00:00+02:00-2022-08-20T13:00:00+02:00
DTSTART;TZID=Europe/Madrid:20220820T100000
DTEND;TZID=Europe/Madrid:20220820T130000
DESCRIPTION:Una serie de retratos al óleo y cera fría sobre lino componen
  esta exposición inspirada en mujeres artistas que se han abierto paso en
  mundos que sólo correspondían a hombres.
SUMMARY:"I´m a woman. Hear me roar"\, de TKM XOXO
END:VEVENT
BEGIN:VEVENT
DTSTAMP:20260422T010345Z
UID:event-2770-2022-08-20T17:00:00+02:00-2022-08-20T20:00:00+02:00
DTSTART;TZID=Europe/Madrid:20220820T170000
DTEND;TZID=Europe/Madrid:20220820T200000
DESCRIPTION:Una serie de retratos al óleo y cera fría sobre lino componen
  esta exposición inspirada en mujeres artistas que se han abierto paso en
  mundos que sólo correspondían a hombres.
SUMMARY:"I´m a woman. Hear me roar"\, de TKM XOXO
END:VEVENT
BEGIN:VEVENT
DTSTAMP:20260422T010345Z
UID:event-2770-2022-08-21T10:00:00+02:00-2022-08-21T13:00:00+02:00
DTSTART;TZID=Europe/Madrid:20220821T100000
DTEND;TZID=Europe/Madrid:20220821T130000
DESCRIPTION:Una serie de retratos al óleo y cera fría sobre lino componen
  esta exposición inspirada en mujeres artistas que se han abierto paso en
  mundos que sólo correspondían a hombres.
SUMMARY:"I´m a woman. Hear me roar"\, de TKM XOXO
END:VEVENT
BEGIN:VEVENT
DTSTAMP:20260422T010345Z
UID:event-2770-2022-08-21T17:00:00+02:00-2022-08-21T20:00:00+02:00
DTSTART;TZID=Europe/Madrid:20220821T170000
DTEND;TZID=Europe/Madrid:20220821T200000
DESCRIPTION:Una serie de retratos al óleo y cera fría sobre lino componen
  esta exposición inspirada en mujeres artistas que se han abierto paso en
  mundos que sólo correspondían a hombres.
SUMMARY:"I´m a woman. Hear me roar"\, de TKM XOXO
END:VEVENT
BEGIN:VEVENT
DTSTAMP:20260422T010345Z
UID:event-2770-2022-08-22T10:00:00+02:00-2022-08-22T13:00:00+02:00
DTSTART;TZID=Europe/Madrid:20220822T100000
DTEND;TZID=Europe/Madrid:20220822T130000
DESCRIPTION:Una serie de retratos al óleo y cera fría sobre lino componen
  esta exposición inspirada en mujeres artistas que se han abierto paso en
  mundos que sólo correspondían a hombres.
SUMMARY:"I´m a woman. Hear me roar"\, de TKM XOXO
END:VEVENT
BEGIN:VEVENT
DTSTAMP:20260422T010345Z
UID:event-2770-2022-08-22T17:00:00+02:00-2022-08-22T20:00:00+02:00
DTSTART;TZID=Europe/Madrid:20220822T170000
DTEND;TZID=Europe/Madrid:20220822T200000
DESCRIPTION:Una serie de retratos al óleo y cera fría sobre lino componen
  esta exposición inspirada en mujeres artistas que se han abierto paso en
  mundos que sólo correspondían a hombres.
SUMMARY:"I´m a woman. Hear me roar"\, de TKM XOXO
END:VEVENT
BEGIN:VEVENT
DTSTAMP:20260422T010345Z
UID:event-2770-2022-08-23T10:00:00+02:00-2022-08-23T13:00:00+02:00
DTSTART;TZID=Europe/Madrid:20220823T100000
DTEND;TZID=Europe/Madrid:20220823T130000
DESCRIPTION:Una serie de retratos al óleo y cera fría sobre lino componen
  esta exposición inspirada en mujeres artistas que se han abierto paso en
  mundos que sólo correspondían a hombres.
SUMMARY:"I´m a woman. Hear me roar"\, de TKM XOXO
END:VEVENT
BEGIN:VEVENT
DTSTAMP:20260422T010345Z
UID:event-2770-2022-08-23T17:00:00+02:00-2022-08-23T20:00:00+02:00
DTSTART;TZID=Europe/Madrid:20220823T170000
DTEND;TZID=Europe/Madrid:20220823T200000
DESCRIPTION:Una serie de retratos al óleo y cera fría sobre lino componen
  esta exposición inspirada en mujeres artistas que se han abierto paso en
  mundos que sólo correspondían a hombres.
SUMMARY:"I´m a woman. Hear me roar"\, de TKM XOXO
END:VEVENT
BEGIN:VEVENT
DTSTAMP:20260422T010345Z
UID:event-2770-2022-08-24T10:00:00+02:00-2022-08-24T13:00:00+02:00
DTSTART;TZID=Europe/Madrid:20220824T100000
DTEND;TZID=Europe/Madrid:20220824T130000
DESCRIPTION:Una serie de retratos al óleo y cera fría sobre lino componen
  esta exposición inspirada en mujeres artistas que se han abierto paso en
  mundos que sólo correspondían a hombres.
SUMMARY:"I´m a woman. Hear me roar"\, de TKM XOXO
END:VEVENT
BEGIN:VEVENT
DTSTAMP:20260422T010345Z
UID:event-2770-2022-08-24T17:00:00+02:00-2022-08-24T20:00:00+02:00
DTSTART;TZID=Europe/Madrid:20220824T170000
DTEND;TZID=Europe/Madrid:20220824T200000
DESCRIPTION:Una serie de retratos al óleo y cera fría sobre lino componen
  esta exposición inspirada en mujeres artistas que se han abierto paso en
  mundos que sólo correspondían a hombres.
SUMMARY:"I´m a woman. Hear me roar"\, de TKM XOXO
END:VEVENT
BEGIN:VEVENT
DTSTAMP:20260422T010345Z
UID:event-2770-2022-08-25T10:00:00+02:00-2022-08-25T13:00:00+02:00
DTSTART;TZID=Europe/Madrid:20220825T100000
DTEND;TZID=Europe/Madrid:20220825T130000
DESCRIPTION:Una serie de retratos al óleo y cera fría sobre lino componen
  esta exposición inspirada en mujeres artistas que se han abierto paso en
  mundos que sólo correspondían a hombres.
SUMMARY:"I´m a woman. Hear me roar"\, de TKM XOXO
END:VEVENT
BEGIN:VEVENT
DTSTAMP:20260422T010345Z
UID:event-2770-2022-08-25T17:00:00+02:00-2022-08-25T20:00:00+02:00
DTSTART;TZID=Europe/Madrid:20220825T170000
DTEND;TZID=Europe/Madrid:20220825T200000
DESCRIPTION:Una serie de retratos al óleo y cera fría sobre lino componen
  esta exposición inspirada en mujeres artistas que se han abierto paso en
  mundos que sólo correspondían a hombres.
SUMMARY:"I´m a woman. Hear me roar"\, de TKM XOXO
END:VEVENT
BEGIN:VEVENT
DTSTAMP:20260422T010345Z
UID:event-2770-2022-08-26T10:00:00+02:00-2022-08-26T13:00:00+02:00
DTSTART;TZID=Europe/Madrid:20220826T100000
DTEND;TZID=Europe/Madrid:20220826T130000
DESCRIPTION:Una serie de retratos al óleo y cera fría sobre lino componen
  esta exposición inspirada en mujeres artistas que se han abierto paso en
  mundos que sólo correspondían a hombres.
SUMMARY:"I´m a woman. Hear me roar"\, de TKM XOXO
END:VEVENT
BEGIN:VEVENT
DTSTAMP:20260422T010345Z
UID:event-2770-2022-08-26T17:00:00+02:00-2022-08-26T20:00:00+02:00
DTSTART;TZID=Europe/Madrid:20220826T170000
DTEND;TZID=Europe/Madrid:20220826T200000
DESCRIPTION:Una serie de retratos al óleo y cera fría sobre lino componen
  esta exposición inspirada en mujeres artistas que se han abierto paso en
  mundos que sólo correspondían a hombres.
SUMMARY:"I´m a woman. Hear me roar"\, de TKM XOXO
END:VEVENT
BEGIN:VEVENT
DTSTAMP:20260422T010345Z
UID:event-2770-2022-08-27T10:00:00+02:00-2022-08-27T13:00:00+02:00
DTSTART;TZID=Europe/Madrid:20220827T100000
DTEND;TZID=Europe/Madrid:20220827T130000
DESCRIPTION:Una serie de retratos al óleo y cera fría sobre lino componen
  esta exposición inspirada en mujeres artistas que se han abierto paso en
  mundos que sólo correspondían a hombres.
SUMMARY:"I´m a woman. Hear me roar"\, de TKM XOXO
END:VEVENT
BEGIN:VEVENT
DTSTAMP:20260422T010345Z
UID:event-2770-2022-08-27T17:00:00+02:00-2022-08-27T20:00:00+02:00
DTSTART;TZID=Europe/Madrid:20220827T170000
DTEND;TZID=Europe/Madrid:20220827T200000
DESCRIPTION:Una serie de retratos al óleo y cera fría sobre lino componen
  esta exposición inspirada en mujeres artistas que se han abierto paso en
  mundos que sólo correspondían a hombres.
SUMMARY:"I´m a woman. Hear me roar"\, de TKM XOXO
END:VEVENT
BEGIN:VEVENT
DTSTAMP:20260422T010345Z
UID:event-2770-2022-08-28T10:00:00+02:00-2022-08-28T13:00:00+02:00
DTSTART;TZID=Europe/Madrid:20220828T100000
DTEND;TZID=Europe/Madrid:20220828T130000
DESCRIPTION:Una serie de retratos al óleo y cera fría sobre lino componen
  esta exposición inspirada en mujeres artistas que se han abierto paso en
  mundos que sólo correspondían a hombres.
SUMMARY:"I´m a woman. Hear me roar"\, de TKM XOXO
END:VEVENT
BEGIN:VEVENT
DTSTAMP:20260422T010345Z
UID:event-2770-2022-08-28T17:00:00+02:00-2022-08-28T20:00:00+02:00
DTSTART;TZID=Europe/Madrid:20220828T170000
DTEND;TZID=Europe/Madrid:20220828T200000
DESCRIPTION:Una serie de retratos al óleo y cera fría sobre lino componen
  esta exposición inspirada en mujeres artistas que se han abierto paso en
  mundos que sólo correspondían a hombres.
SUMMARY:"I´m a woman. Hear me roar"\, de TKM XOXO
END:VEVENT
BEGIN:VEVENT
DTSTAMP:20260422T010345Z
UID:event-2770-2022-08-29T10:00:00+02:00-2022-08-29T13:00:00+02:00
DTSTART;TZID=Europe/Madrid:20220829T100000
DTEND;TZID=Europe/Madrid:20220829T130000
DESCRIPTION:Una serie de retratos al óleo y cera fría sobre lino componen
  esta exposición inspirada en mujeres artistas que se han abierto paso en
  mundos que sólo correspondían a hombres.
SUMMARY:"I´m a woman. Hear me roar"\, de TKM XOXO
END:VEVENT
BEGIN:VEVENT
DTSTAMP:20260422T010345Z
UID:event-2770-2022-08-29T17:00:00+02:00-2022-08-29T20:00:00+02:00
DTSTART;TZID=Europe/Madrid:20220829T170000
DTEND;TZID=Europe/Madrid:20220829T200000
DESCRIPTION:Una serie de retratos al óleo y cera fría sobre lino componen
  esta exposición inspirada en mujeres artistas que se han abierto paso en
  mundos que sólo correspondían a hombres.
SUMMARY:"I´m a woman. Hear me roar"\, de TKM XOXO
END:VEVENT
BEGIN:VEVENT
DTSTAMP:20260422T010345Z
UID:event-2770-2022-08-30T10:00:00+02:00-2022-08-30T13:00:00+02:00
DTSTART;TZID=Europe/Madrid:20220830T100000
DTEND;TZID=Europe/Madrid:20220830T130000
DESCRIPTION:Una serie de retratos al óleo y cera fría sobre lino componen
  esta exposición inspirada en mujeres artistas que se han abierto paso en
  mundos que sólo correspondían a hombres.
SUMMARY:"I´m a woman. Hear me roar"\, de TKM XOXO
END:VEVENT
BEGIN:VEVENT
DTSTAMP:20260422T010345Z
UID:event-2770-2022-08-30T17:00:00+02:00-2022-08-30T20:00:00+02:00
DTSTART;TZID=Europe/Madrid:20220830T170000
DTEND;TZID=Europe/Madrid:20220830T200000
DESCRIPTION:Una serie de retratos al óleo y cera fría sobre lino componen
  esta exposición inspirada en mujeres artistas que se han abierto paso en
  mundos que sólo correspondían a hombres.
SUMMARY:"I´m a woman. Hear me roar"\, de TKM XOXO
END:VEVENT
END:VCALENDAR
