BEGIN:VCALENDAR
VERSION:2.0
PRODID:icalendar-ruby
CALSCALE:GREGORIAN
METHOD:PUBLISH
BEGIN:VEVENT
DTSTAMP:20260420T142509Z
UID:event-11940-2024-07-16T19:30:00+02:00-none
DTSTART;TZID=Europe/Madrid:20240716T193000
DESCRIPTION:Los héroes no tienen por qué contar con habilidades extraordi
 narias como acostumbramos a ver en los personajes de ficción. Aún sin co
 ntar con superpoderes se pueden lograr hazañas fuera de lo común.
SUMMARY:"Ignacio Echeverría. El héroe del monopatín"\, presentación lit
 eraria
END:VEVENT
END:VCALENDAR
