BEGIN:VCALENDAR
VERSION:2.0
PRODID:icalendar-ruby
CALSCALE:GREGORIAN
METHOD:PUBLISH
BEGIN:VEVENT
DTSTAMP:20260421T164606Z
UID:event-21828-2026-03-27T20:30:00+01:00-none
DTSTART;TZID=Europe/Madrid:20260327T203000
DESCRIPTION:El viernes 27 de marzo tendrá lugar la inauguración de la exp
 osición de pasos de Semana Santa en la carpa situada en la Plaza Porticad
 a. Se podrá visitar diariamente de 10 a 22h. El jueves y viernes Santo ce
 rrará a las 14h.
SUMMARY:Inauguración de la exposición de pasos de Semana Santa
END:VEVENT
END:VCALENDAR
