BEGIN:VCALENDAR
VERSION:2.0
PRODID:icalendar-ruby
CALSCALE:GREGORIAN
METHOD:PUBLISH
BEGIN:VEVENT
DTSTAMP:20260423T153259Z
UID:event-12185-2024-07-26T19:00:00+02:00-none
DTSTART;TZID=Europe/Madrid:20240726T190000
DESCRIPTION:Este viernes 26 de julio a las 19:00 h en el Espacio “Los Are
 nales” de la Biblioteca Central de Cantabria\, tendrá lugar la Inaugura
 ción de la exposición “Wonderland”\, en la que se podrán admirar ob
 ras del artista Eloy Velázquez.
SUMMARY:Inauguración de la exposición "Wonderland"\, de Eloy Velázquez
END:VEVENT
END:VCALENDAR
