BEGIN:VCALENDAR
VERSION:2.0
PRODID:icalendar-ruby
CALSCALE:GREGORIAN
METHOD:PUBLISH
BEGIN:VEVENT
DTSTAMP:20260422T170157Z
UID:event-9931-2024-03-09T20:00:00+01:00-none
DTSTART;TZID=Europe/Madrid:20240309T200000
DESCRIPTION:Vuelve al Café de las Artes el particular universo creativo de
  Joan Estrader\, con su nuevo montaje “Sal”\, en el que Joan juega con
  las palabras y con las imágenes\, con los dobles sentidos.
SUMMARY:Joan Estrader presenta "Sal" en el ciclo de comedia "Mejor Reir"
END:VEVENT
END:VCALENDAR
