BEGIN:VCALENDAR
VERSION:2.0
PRODID:icalendar-ruby
CALSCALE:GREGORIAN
METHOD:PUBLISH
BEGIN:VEVENT
DTSTAMP:20260421T164840Z
UID:event-9245-2024-01-25T21:00:00+01:00-none
DTSTART;TZID=Europe/Madrid:20240125T210000
DESCRIPTION:Jorge Ruiz\, el que fuera cantante de la banda de rock Encrudo\
 , acaba de anunciar una serie de conciertos en acústico en los que presen
 tará su primer disco en solitario (La orilla\, 2023).
SUMMARY:Jorge Ruiz presenta su primer disco en un concierto en acústico
END:VEVENT
END:VCALENDAR
