BEGIN:VCALENDAR
VERSION:2.0
PRODID:icalendar-ruby
CALSCALE:GREGORIAN
METHOD:PUBLISH
BEGIN:VEVENT
DTSTAMP:20260421T062746Z
UID:event-6189-2023-06-11T14:00:00+02:00-none
DTSTART;TZID=Europe/Madrid:20230611T140000
DESCRIPTION:La fiesta arrancará a las 14.00 horas y bajo el título ‘Mú
 sica contra el cáncer infantil’ incluirá las actuaciones de The Gordin
 i (14.15 horas)\, La última y nos vamos (16.00 horas) y The Dirty Cleans 
 (17.30 horas). 
SUMMARY:Música contra el cáncer infantil
END:VEVENT
END:VCALENDAR
