BEGIN:VCALENDAR
VERSION:2.0
PRODID:icalendar-ruby
CALSCALE:GREGORIAN
METHOD:PUBLISH
BEGIN:VEVENT
DTSTAMP:20260423T154753Z
UID:event-7909-2023-10-25T18:00:00+02:00-none
DTSTART;TZID=Europe/Madrid:20231025T180000
DESCRIPTION:Organizada por UNATE en colaboración con el Colegio de Economi
 stas de Cantabria.
SUMMARY:Jornada: Empezar de cero: acercamiento a la ley de la segunda oport
 unidad. Una herramienta al alcance de todos
END:VEVENT
END:VCALENDAR
