BEGIN:VCALENDAR
VERSION:2.0
PRODID:icalendar-ruby
CALSCALE:GREGORIAN
METHOD:PUBLISH
BEGIN:VEVENT
DTSTAMP:20260420T125900Z
UID:event-2808-2022-09-08T09:30:00+02:00-2022-09-08T13:00:00+02:00
DTSTART;TZID=Europe/Madrid:20220908T093000
DTEND;TZID=Europe/Madrid:20220908T130000
DESCRIPTION:La Concejalía de Cultura ha programado unas jornadas sobre el 
 papel de los museos en la sociedad actual bajo el título “Museos para q
 uién? ¿Museos cómo?”\, que se van a celebrar los días 8\, 9 y 10 de 
 septiembre.
SUMMARY:Jornadas: “Museos para quién? ¿Museos cómo?”
END:VEVENT
BEGIN:VEVENT
DTSTAMP:20260420T125900Z
UID:event-2808-2022-09-08T16:00:00+02:00-2022-09-08T19:30:00+02:00
DTSTART;TZID=Europe/Madrid:20220908T160000
DTEND;TZID=Europe/Madrid:20220908T193000
DESCRIPTION:La Concejalía de Cultura ha programado unas jornadas sobre el 
 papel de los museos en la sociedad actual bajo el título “Museos para q
 uién? ¿Museos cómo?”\, que se van a celebrar los días 8\, 9 y 10 de 
 septiembre.
SUMMARY:Jornadas: “Museos para quién? ¿Museos cómo?”
END:VEVENT
BEGIN:VEVENT
DTSTAMP:20260420T125900Z
UID:event-2808-2022-09-09T09:30:00+02:00-2022-09-09T13:00:00+02:00
DTSTART;TZID=Europe/Madrid:20220909T093000
DTEND;TZID=Europe/Madrid:20220909T130000
DESCRIPTION:La Concejalía de Cultura ha programado unas jornadas sobre el 
 papel de los museos en la sociedad actual bajo el título “Museos para q
 uién? ¿Museos cómo?”\, que se van a celebrar los días 8\, 9 y 10 de 
 septiembre.
SUMMARY:Jornadas: “Museos para quién? ¿Museos cómo?”
END:VEVENT
BEGIN:VEVENT
DTSTAMP:20260420T125900Z
UID:event-2808-2022-09-09T16:00:00+02:00-2022-09-09T19:30:00+02:00
DTSTART;TZID=Europe/Madrid:20220909T160000
DTEND;TZID=Europe/Madrid:20220909T193000
DESCRIPTION:La Concejalía de Cultura ha programado unas jornadas sobre el 
 papel de los museos en la sociedad actual bajo el título “Museos para q
 uién? ¿Museos cómo?”\, que se van a celebrar los días 8\, 9 y 10 de 
 septiembre.
SUMMARY:Jornadas: “Museos para quién? ¿Museos cómo?”
END:VEVENT
BEGIN:VEVENT
DTSTAMP:20260420T125900Z
UID:event-2808-2022-09-10T12:00:00+02:00-none
DTSTART;TZID=Europe/Madrid:20220910T120000
DESCRIPTION:La Concejalía de Cultura ha programado unas jornadas sobre el 
 papel de los museos en la sociedad actual bajo el título “Museos para q
 uién? ¿Museos cómo?”\, que se van a celebrar los días 8\, 9 y 10 de 
 septiembre.
SUMMARY:Jornadas: “Museos para quién? ¿Museos cómo?”
END:VEVENT
END:VCALENDAR
