BEGIN:VCALENDAR
VERSION:2.0
PRODID:icalendar-ruby
CALSCALE:GREGORIAN
METHOD:PUBLISH
BEGIN:VEVENT
DTSTAMP:20260423T101330Z
UID:event-17939-2025-08-08T19:00:00+02:00-none
DTSTART;TZID=Europe/Madrid:20250808T190000
DESCRIPTION:José Luis Vicario presenta el poemario “VLTRAMARINO” acomp
 añado por Javier Pérez Iglesias\, director de la Biblioteca de la Facult
 ad de Bellas Artes de la Universidad Complutense de Madrid. Sonámbulos ed
 iciones.
SUMMARY:José Luis Vicario presenta el poemario "VLTRAMARINO"
END:VEVENT
END:VCALENDAR
