BEGIN:VCALENDAR
VERSION:2.0
PRODID:icalendar-ruby
CALSCALE:GREGORIAN
METHOD:PUBLISH
BEGIN:VEVENT
DTSTAMP:20260421T234430Z
UID:event-2542-2022-07-20T10:00:00+02:00-2022-07-20T14:00:00+02:00
DTSTART;TZID=Europe/Madrid:20220720T100000
DTEND;TZID=Europe/Madrid:20220720T140000
DESCRIPTION:La muestra tiene un carácter fundamentalmente didáctico e int
 eractivo y se articula en varias secciones temáticas que acercan a los vi
 sitantes a esta aventura teatral y pedagógica.
SUMMARY:La Barraca Teatro y Universidad: Ayer y hoy de una utopía
END:VEVENT
BEGIN:VEVENT
DTSTAMP:20260421T234430Z
UID:event-2542-2022-07-20T16:00:00+02:00-2022-07-20T20:00:00+02:00
DTSTART;TZID=Europe/Madrid:20220720T160000
DTEND;TZID=Europe/Madrid:20220720T200000
DESCRIPTION:La muestra tiene un carácter fundamentalmente didáctico e int
 eractivo y se articula en varias secciones temáticas que acercan a los vi
 sitantes a esta aventura teatral y pedagógica.
SUMMARY:La Barraca Teatro y Universidad: Ayer y hoy de una utopía
END:VEVENT
BEGIN:VEVENT
DTSTAMP:20260421T234430Z
UID:event-2542-2022-07-21T10:00:00+02:00-2022-07-21T14:00:00+02:00
DTSTART;TZID=Europe/Madrid:20220721T100000
DTEND;TZID=Europe/Madrid:20220721T140000
DESCRIPTION:La muestra tiene un carácter fundamentalmente didáctico e int
 eractivo y se articula en varias secciones temáticas que acercan a los vi
 sitantes a esta aventura teatral y pedagógica.
SUMMARY:La Barraca Teatro y Universidad: Ayer y hoy de una utopía
END:VEVENT
BEGIN:VEVENT
DTSTAMP:20260421T234430Z
UID:event-2542-2022-07-21T16:00:00+02:00-2022-07-21T20:00:00+02:00
DTSTART;TZID=Europe/Madrid:20220721T160000
DTEND;TZID=Europe/Madrid:20220721T200000
DESCRIPTION:La muestra tiene un carácter fundamentalmente didáctico e int
 eractivo y se articula en varias secciones temáticas que acercan a los vi
 sitantes a esta aventura teatral y pedagógica.
SUMMARY:La Barraca Teatro y Universidad: Ayer y hoy de una utopía
END:VEVENT
BEGIN:VEVENT
DTSTAMP:20260421T234430Z
UID:event-2542-2022-07-22T10:00:00+02:00-2022-07-22T14:00:00+02:00
DTSTART;TZID=Europe/Madrid:20220722T100000
DTEND;TZID=Europe/Madrid:20220722T140000
DESCRIPTION:La muestra tiene un carácter fundamentalmente didáctico e int
 eractivo y se articula en varias secciones temáticas que acercan a los vi
 sitantes a esta aventura teatral y pedagógica.
SUMMARY:La Barraca Teatro y Universidad: Ayer y hoy de una utopía
END:VEVENT
BEGIN:VEVENT
DTSTAMP:20260421T234430Z
UID:event-2542-2022-07-22T16:00:00+02:00-2022-07-22T20:00:00+02:00
DTSTART;TZID=Europe/Madrid:20220722T160000
DTEND;TZID=Europe/Madrid:20220722T200000
DESCRIPTION:La muestra tiene un carácter fundamentalmente didáctico e int
 eractivo y se articula en varias secciones temáticas que acercan a los vi
 sitantes a esta aventura teatral y pedagógica.
SUMMARY:La Barraca Teatro y Universidad: Ayer y hoy de una utopía
END:VEVENT
BEGIN:VEVENT
DTSTAMP:20260421T234430Z
UID:event-2542-2022-07-23T10:00:00+02:00-2022-07-23T18:00:00+02:00
DTSTART;TZID=Europe/Madrid:20220723T100000
DTEND;TZID=Europe/Madrid:20220723T180000
DESCRIPTION:La muestra tiene un carácter fundamentalmente didáctico e int
 eractivo y se articula en varias secciones temáticas que acercan a los vi
 sitantes a esta aventura teatral y pedagógica.
SUMMARY:La Barraca Teatro y Universidad: Ayer y hoy de una utopía
END:VEVENT
BEGIN:VEVENT
DTSTAMP:20260421T234430Z
UID:event-2542-2022-07-24T10:00:00+02:00-2022-07-24T14:00:00+02:00
DTSTART;TZID=Europe/Madrid:20220724T100000
DTEND;TZID=Europe/Madrid:20220724T140000
DESCRIPTION:La muestra tiene un carácter fundamentalmente didáctico e int
 eractivo y se articula en varias secciones temáticas que acercan a los vi
 sitantes a esta aventura teatral y pedagógica.
SUMMARY:La Barraca Teatro y Universidad: Ayer y hoy de una utopía
END:VEVENT
BEGIN:VEVENT
DTSTAMP:20260421T234430Z
UID:event-2542-2022-07-26T16:00:00+02:00-2022-07-26T20:00:00+02:00
DTSTART;TZID=Europe/Madrid:20220726T160000
DTEND;TZID=Europe/Madrid:20220726T200000
DESCRIPTION:La muestra tiene un carácter fundamentalmente didáctico e int
 eractivo y se articula en varias secciones temáticas que acercan a los vi
 sitantes a esta aventura teatral y pedagógica.
SUMMARY:La Barraca Teatro y Universidad: Ayer y hoy de una utopía
END:VEVENT
BEGIN:VEVENT
DTSTAMP:20260421T234430Z
UID:event-2542-2022-07-27T10:00:00+02:00-2022-07-27T14:00:00+02:00
DTSTART;TZID=Europe/Madrid:20220727T100000
DTEND;TZID=Europe/Madrid:20220727T140000
DESCRIPTION:La muestra tiene un carácter fundamentalmente didáctico e int
 eractivo y se articula en varias secciones temáticas que acercan a los vi
 sitantes a esta aventura teatral y pedagógica.
SUMMARY:La Barraca Teatro y Universidad: Ayer y hoy de una utopía
END:VEVENT
BEGIN:VEVENT
DTSTAMP:20260421T234430Z
UID:event-2542-2022-07-27T16:00:00+02:00-2022-07-27T20:00:00+02:00
DTSTART;TZID=Europe/Madrid:20220727T160000
DTEND;TZID=Europe/Madrid:20220727T200000
DESCRIPTION:La muestra tiene un carácter fundamentalmente didáctico e int
 eractivo y se articula en varias secciones temáticas que acercan a los vi
 sitantes a esta aventura teatral y pedagógica.
SUMMARY:La Barraca Teatro y Universidad: Ayer y hoy de una utopía
END:VEVENT
BEGIN:VEVENT
DTSTAMP:20260421T234430Z
UID:event-2542-2022-07-28T10:00:00+02:00-2022-07-28T14:00:00+02:00
DTSTART;TZID=Europe/Madrid:20220728T100000
DTEND;TZID=Europe/Madrid:20220728T140000
DESCRIPTION:La muestra tiene un carácter fundamentalmente didáctico e int
 eractivo y se articula en varias secciones temáticas que acercan a los vi
 sitantes a esta aventura teatral y pedagógica.
SUMMARY:La Barraca Teatro y Universidad: Ayer y hoy de una utopía
END:VEVENT
BEGIN:VEVENT
DTSTAMP:20260421T234430Z
UID:event-2542-2022-07-28T16:00:00+02:00-2022-07-28T20:00:00+02:00
DTSTART;TZID=Europe/Madrid:20220728T160000
DTEND;TZID=Europe/Madrid:20220728T200000
DESCRIPTION:La muestra tiene un carácter fundamentalmente didáctico e int
 eractivo y se articula en varias secciones temáticas que acercan a los vi
 sitantes a esta aventura teatral y pedagógica.
SUMMARY:La Barraca Teatro y Universidad: Ayer y hoy de una utopía
END:VEVENT
BEGIN:VEVENT
DTSTAMP:20260421T234430Z
UID:event-2542-2022-07-29T10:00:00+02:00-2022-07-29T14:00:00+02:00
DTSTART;TZID=Europe/Madrid:20220729T100000
DTEND;TZID=Europe/Madrid:20220729T140000
DESCRIPTION:La muestra tiene un carácter fundamentalmente didáctico e int
 eractivo y se articula en varias secciones temáticas que acercan a los vi
 sitantes a esta aventura teatral y pedagógica.
SUMMARY:La Barraca Teatro y Universidad: Ayer y hoy de una utopía
END:VEVENT
BEGIN:VEVENT
DTSTAMP:20260421T234430Z
UID:event-2542-2022-07-29T16:00:00+02:00-2022-07-29T20:00:00+02:00
DTSTART;TZID=Europe/Madrid:20220729T160000
DTEND;TZID=Europe/Madrid:20220729T200000
DESCRIPTION:La muestra tiene un carácter fundamentalmente didáctico e int
 eractivo y se articula en varias secciones temáticas que acercan a los vi
 sitantes a esta aventura teatral y pedagógica.
SUMMARY:La Barraca Teatro y Universidad: Ayer y hoy de una utopía
END:VEVENT
BEGIN:VEVENT
DTSTAMP:20260421T234430Z
UID:event-2542-2022-07-30T10:00:00+02:00-2022-07-30T18:00:00+02:00
DTSTART;TZID=Europe/Madrid:20220730T100000
DTEND;TZID=Europe/Madrid:20220730T180000
DESCRIPTION:La muestra tiene un carácter fundamentalmente didáctico e int
 eractivo y se articula en varias secciones temáticas que acercan a los vi
 sitantes a esta aventura teatral y pedagógica.
SUMMARY:La Barraca Teatro y Universidad: Ayer y hoy de una utopía
END:VEVENT
BEGIN:VEVENT
DTSTAMP:20260421T234430Z
UID:event-2542-2022-07-31T10:00:00+02:00-2022-07-31T14:00:00+02:00
DTSTART;TZID=Europe/Madrid:20220731T100000
DTEND;TZID=Europe/Madrid:20220731T140000
DESCRIPTION:La muestra tiene un carácter fundamentalmente didáctico e int
 eractivo y se articula en varias secciones temáticas que acercan a los vi
 sitantes a esta aventura teatral y pedagógica.
SUMMARY:La Barraca Teatro y Universidad: Ayer y hoy de una utopía
END:VEVENT
BEGIN:VEVENT
DTSTAMP:20260421T234430Z
UID:event-2542-2022-08-02T16:00:00+02:00-2022-08-02T20:00:00+02:00
DTSTART;TZID=Europe/Madrid:20220802T160000
DTEND;TZID=Europe/Madrid:20220802T200000
DESCRIPTION:La muestra tiene un carácter fundamentalmente didáctico e int
 eractivo y se articula en varias secciones temáticas que acercan a los vi
 sitantes a esta aventura teatral y pedagógica.
SUMMARY:La Barraca Teatro y Universidad: Ayer y hoy de una utopía
END:VEVENT
BEGIN:VEVENT
DTSTAMP:20260421T234430Z
UID:event-2542-2022-08-03T10:00:00+02:00-2022-08-03T14:00:00+02:00
DTSTART;TZID=Europe/Madrid:20220803T100000
DTEND;TZID=Europe/Madrid:20220803T140000
DESCRIPTION:La muestra tiene un carácter fundamentalmente didáctico e int
 eractivo y se articula en varias secciones temáticas que acercan a los vi
 sitantes a esta aventura teatral y pedagógica.
SUMMARY:La Barraca Teatro y Universidad: Ayer y hoy de una utopía
END:VEVENT
BEGIN:VEVENT
DTSTAMP:20260421T234430Z
UID:event-2542-2022-08-03T16:00:00+02:00-2022-08-03T20:00:00+02:00
DTSTART;TZID=Europe/Madrid:20220803T160000
DTEND;TZID=Europe/Madrid:20220803T200000
DESCRIPTION:La muestra tiene un carácter fundamentalmente didáctico e int
 eractivo y se articula en varias secciones temáticas que acercan a los vi
 sitantes a esta aventura teatral y pedagógica.
SUMMARY:La Barraca Teatro y Universidad: Ayer y hoy de una utopía
END:VEVENT
BEGIN:VEVENT
DTSTAMP:20260421T234430Z
UID:event-2542-2022-08-04T10:00:00+02:00-2022-08-04T14:00:00+02:00
DTSTART;TZID=Europe/Madrid:20220804T100000
DTEND;TZID=Europe/Madrid:20220804T140000
DESCRIPTION:La muestra tiene un carácter fundamentalmente didáctico e int
 eractivo y se articula en varias secciones temáticas que acercan a los vi
 sitantes a esta aventura teatral y pedagógica.
SUMMARY:La Barraca Teatro y Universidad: Ayer y hoy de una utopía
END:VEVENT
BEGIN:VEVENT
DTSTAMP:20260421T234430Z
UID:event-2542-2022-08-04T16:00:00+02:00-2022-08-04T20:00:00+02:00
DTSTART;TZID=Europe/Madrid:20220804T160000
DTEND;TZID=Europe/Madrid:20220804T200000
DESCRIPTION:La muestra tiene un carácter fundamentalmente didáctico e int
 eractivo y se articula en varias secciones temáticas que acercan a los vi
 sitantes a esta aventura teatral y pedagógica.
SUMMARY:La Barraca Teatro y Universidad: Ayer y hoy de una utopía
END:VEVENT
BEGIN:VEVENT
DTSTAMP:20260421T234430Z
UID:event-2542-2022-08-05T10:00:00+02:00-2022-08-05T14:00:00+02:00
DTSTART;TZID=Europe/Madrid:20220805T100000
DTEND;TZID=Europe/Madrid:20220805T140000
DESCRIPTION:La muestra tiene un carácter fundamentalmente didáctico e int
 eractivo y se articula en varias secciones temáticas que acercan a los vi
 sitantes a esta aventura teatral y pedagógica.
SUMMARY:La Barraca Teatro y Universidad: Ayer y hoy de una utopía
END:VEVENT
BEGIN:VEVENT
DTSTAMP:20260421T234430Z
UID:event-2542-2022-08-05T16:00:00+02:00-2022-08-05T20:00:00+02:00
DTSTART;TZID=Europe/Madrid:20220805T160000
DTEND;TZID=Europe/Madrid:20220805T200000
DESCRIPTION:La muestra tiene un carácter fundamentalmente didáctico e int
 eractivo y se articula en varias secciones temáticas que acercan a los vi
 sitantes a esta aventura teatral y pedagógica.
SUMMARY:La Barraca Teatro y Universidad: Ayer y hoy de una utopía
END:VEVENT
BEGIN:VEVENT
DTSTAMP:20260421T234430Z
UID:event-2542-2022-08-06T10:00:00+02:00-2022-08-06T18:00:00+02:00
DTSTART;TZID=Europe/Madrid:20220806T100000
DTEND;TZID=Europe/Madrid:20220806T180000
DESCRIPTION:La muestra tiene un carácter fundamentalmente didáctico e int
 eractivo y se articula en varias secciones temáticas que acercan a los vi
 sitantes a esta aventura teatral y pedagógica.
SUMMARY:La Barraca Teatro y Universidad: Ayer y hoy de una utopía
END:VEVENT
BEGIN:VEVENT
DTSTAMP:20260421T234430Z
UID:event-2542-2022-08-07T10:00:00+02:00-2022-08-07T14:00:00+02:00
DTSTART;TZID=Europe/Madrid:20220807T100000
DTEND;TZID=Europe/Madrid:20220807T140000
DESCRIPTION:La muestra tiene un carácter fundamentalmente didáctico e int
 eractivo y se articula en varias secciones temáticas que acercan a los vi
 sitantes a esta aventura teatral y pedagógica.
SUMMARY:La Barraca Teatro y Universidad: Ayer y hoy de una utopía
END:VEVENT
BEGIN:VEVENT
DTSTAMP:20260421T234430Z
UID:event-2542-2022-08-09T16:00:00+02:00-2022-08-09T20:00:00+02:00
DTSTART;TZID=Europe/Madrid:20220809T160000
DTEND;TZID=Europe/Madrid:20220809T200000
DESCRIPTION:La muestra tiene un carácter fundamentalmente didáctico e int
 eractivo y se articula en varias secciones temáticas que acercan a los vi
 sitantes a esta aventura teatral y pedagógica.
SUMMARY:La Barraca Teatro y Universidad: Ayer y hoy de una utopía
END:VEVENT
BEGIN:VEVENT
DTSTAMP:20260421T234430Z
UID:event-2542-2022-08-10T10:00:00+02:00-2022-08-10T14:00:00+02:00
DTSTART;TZID=Europe/Madrid:20220810T100000
DTEND;TZID=Europe/Madrid:20220810T140000
DESCRIPTION:La muestra tiene un carácter fundamentalmente didáctico e int
 eractivo y se articula en varias secciones temáticas que acercan a los vi
 sitantes a esta aventura teatral y pedagógica.
SUMMARY:La Barraca Teatro y Universidad: Ayer y hoy de una utopía
END:VEVENT
BEGIN:VEVENT
DTSTAMP:20260421T234430Z
UID:event-2542-2022-08-10T16:00:00+02:00-2022-08-10T20:00:00+02:00
DTSTART;TZID=Europe/Madrid:20220810T160000
DTEND;TZID=Europe/Madrid:20220810T200000
DESCRIPTION:La muestra tiene un carácter fundamentalmente didáctico e int
 eractivo y se articula en varias secciones temáticas que acercan a los vi
 sitantes a esta aventura teatral y pedagógica.
SUMMARY:La Barraca Teatro y Universidad: Ayer y hoy de una utopía
END:VEVENT
BEGIN:VEVENT
DTSTAMP:20260421T234430Z
UID:event-2542-2022-08-11T10:00:00+02:00-2022-08-11T14:00:00+02:00
DTSTART;TZID=Europe/Madrid:20220811T100000
DTEND;TZID=Europe/Madrid:20220811T140000
DESCRIPTION:La muestra tiene un carácter fundamentalmente didáctico e int
 eractivo y se articula en varias secciones temáticas que acercan a los vi
 sitantes a esta aventura teatral y pedagógica.
SUMMARY:La Barraca Teatro y Universidad: Ayer y hoy de una utopía
END:VEVENT
BEGIN:VEVENT
DTSTAMP:20260421T234430Z
UID:event-2542-2022-08-11T16:00:00+02:00-2022-08-11T20:00:00+02:00
DTSTART;TZID=Europe/Madrid:20220811T160000
DTEND;TZID=Europe/Madrid:20220811T200000
DESCRIPTION:La muestra tiene un carácter fundamentalmente didáctico e int
 eractivo y se articula en varias secciones temáticas que acercan a los vi
 sitantes a esta aventura teatral y pedagógica.
SUMMARY:La Barraca Teatro y Universidad: Ayer y hoy de una utopía
END:VEVENT
BEGIN:VEVENT
DTSTAMP:20260421T234430Z
UID:event-2542-2022-08-12T10:00:00+02:00-2022-08-12T14:00:00+02:00
DTSTART;TZID=Europe/Madrid:20220812T100000
DTEND;TZID=Europe/Madrid:20220812T140000
DESCRIPTION:La muestra tiene un carácter fundamentalmente didáctico e int
 eractivo y se articula en varias secciones temáticas que acercan a los vi
 sitantes a esta aventura teatral y pedagógica.
SUMMARY:La Barraca Teatro y Universidad: Ayer y hoy de una utopía
END:VEVENT
BEGIN:VEVENT
DTSTAMP:20260421T234430Z
UID:event-2542-2022-08-12T16:00:00+02:00-2022-08-12T20:00:00+02:00
DTSTART;TZID=Europe/Madrid:20220812T160000
DTEND;TZID=Europe/Madrid:20220812T200000
DESCRIPTION:La muestra tiene un carácter fundamentalmente didáctico e int
 eractivo y se articula en varias secciones temáticas que acercan a los vi
 sitantes a esta aventura teatral y pedagógica.
SUMMARY:La Barraca Teatro y Universidad: Ayer y hoy de una utopía
END:VEVENT
BEGIN:VEVENT
DTSTAMP:20260421T234430Z
UID:event-2542-2022-08-13T10:00:00+02:00-2022-08-13T18:00:00+02:00
DTSTART;TZID=Europe/Madrid:20220813T100000
DTEND;TZID=Europe/Madrid:20220813T180000
DESCRIPTION:La muestra tiene un carácter fundamentalmente didáctico e int
 eractivo y se articula en varias secciones temáticas que acercan a los vi
 sitantes a esta aventura teatral y pedagógica.
SUMMARY:La Barraca Teatro y Universidad: Ayer y hoy de una utopía
END:VEVENT
BEGIN:VEVENT
DTSTAMP:20260421T234430Z
UID:event-2542-2022-08-14T10:00:00+02:00-2022-08-14T14:00:00+02:00
DTSTART;TZID=Europe/Madrid:20220814T100000
DTEND;TZID=Europe/Madrid:20220814T140000
DESCRIPTION:La muestra tiene un carácter fundamentalmente didáctico e int
 eractivo y se articula en varias secciones temáticas que acercan a los vi
 sitantes a esta aventura teatral y pedagógica.
SUMMARY:La Barraca Teatro y Universidad: Ayer y hoy de una utopía
END:VEVENT
BEGIN:VEVENT
DTSTAMP:20260421T234430Z
UID:event-2542-2022-08-16T16:00:00+02:00-2022-08-16T20:00:00+02:00
DTSTART;TZID=Europe/Madrid:20220816T160000
DTEND;TZID=Europe/Madrid:20220816T200000
DESCRIPTION:La muestra tiene un carácter fundamentalmente didáctico e int
 eractivo y se articula en varias secciones temáticas que acercan a los vi
 sitantes a esta aventura teatral y pedagógica.
SUMMARY:La Barraca Teatro y Universidad: Ayer y hoy de una utopía
END:VEVENT
BEGIN:VEVENT
DTSTAMP:20260421T234430Z
UID:event-2542-2022-08-17T10:00:00+02:00-2022-08-17T14:00:00+02:00
DTSTART;TZID=Europe/Madrid:20220817T100000
DTEND;TZID=Europe/Madrid:20220817T140000
DESCRIPTION:La muestra tiene un carácter fundamentalmente didáctico e int
 eractivo y se articula en varias secciones temáticas que acercan a los vi
 sitantes a esta aventura teatral y pedagógica.
SUMMARY:La Barraca Teatro y Universidad: Ayer y hoy de una utopía
END:VEVENT
BEGIN:VEVENT
DTSTAMP:20260421T234430Z
UID:event-2542-2022-08-17T16:00:00+02:00-2022-08-17T20:00:00+02:00
DTSTART;TZID=Europe/Madrid:20220817T160000
DTEND;TZID=Europe/Madrid:20220817T200000
DESCRIPTION:La muestra tiene un carácter fundamentalmente didáctico e int
 eractivo y se articula en varias secciones temáticas que acercan a los vi
 sitantes a esta aventura teatral y pedagógica.
SUMMARY:La Barraca Teatro y Universidad: Ayer y hoy de una utopía
END:VEVENT
BEGIN:VEVENT
DTSTAMP:20260421T234430Z
UID:event-2542-2022-08-18T10:00:00+02:00-2022-08-18T14:00:00+02:00
DTSTART;TZID=Europe/Madrid:20220818T100000
DTEND;TZID=Europe/Madrid:20220818T140000
DESCRIPTION:La muestra tiene un carácter fundamentalmente didáctico e int
 eractivo y se articula en varias secciones temáticas que acercan a los vi
 sitantes a esta aventura teatral y pedagógica.
SUMMARY:La Barraca Teatro y Universidad: Ayer y hoy de una utopía
END:VEVENT
BEGIN:VEVENT
DTSTAMP:20260421T234430Z
UID:event-2542-2022-08-18T16:00:00+02:00-2022-08-18T20:00:00+02:00
DTSTART;TZID=Europe/Madrid:20220818T160000
DTEND;TZID=Europe/Madrid:20220818T200000
DESCRIPTION:La muestra tiene un carácter fundamentalmente didáctico e int
 eractivo y se articula en varias secciones temáticas que acercan a los vi
 sitantes a esta aventura teatral y pedagógica.
SUMMARY:La Barraca Teatro y Universidad: Ayer y hoy de una utopía
END:VEVENT
BEGIN:VEVENT
DTSTAMP:20260421T234430Z
UID:event-2542-2022-08-19T10:00:00+02:00-2022-08-19T14:00:00+02:00
DTSTART;TZID=Europe/Madrid:20220819T100000
DTEND;TZID=Europe/Madrid:20220819T140000
DESCRIPTION:La muestra tiene un carácter fundamentalmente didáctico e int
 eractivo y se articula en varias secciones temáticas que acercan a los vi
 sitantes a esta aventura teatral y pedagógica.
SUMMARY:La Barraca Teatro y Universidad: Ayer y hoy de una utopía
END:VEVENT
BEGIN:VEVENT
DTSTAMP:20260421T234430Z
UID:event-2542-2022-08-19T16:00:00+02:00-2022-08-19T20:00:00+02:00
DTSTART;TZID=Europe/Madrid:20220819T160000
DTEND;TZID=Europe/Madrid:20220819T200000
DESCRIPTION:La muestra tiene un carácter fundamentalmente didáctico e int
 eractivo y se articula en varias secciones temáticas que acercan a los vi
 sitantes a esta aventura teatral y pedagógica.
SUMMARY:La Barraca Teatro y Universidad: Ayer y hoy de una utopía
END:VEVENT
BEGIN:VEVENT
DTSTAMP:20260421T234430Z
UID:event-2542-2022-08-20T10:00:00+02:00-2022-08-20T18:00:00+02:00
DTSTART;TZID=Europe/Madrid:20220820T100000
DTEND;TZID=Europe/Madrid:20220820T180000
DESCRIPTION:La muestra tiene un carácter fundamentalmente didáctico e int
 eractivo y se articula en varias secciones temáticas que acercan a los vi
 sitantes a esta aventura teatral y pedagógica.
SUMMARY:La Barraca Teatro y Universidad: Ayer y hoy de una utopía
END:VEVENT
BEGIN:VEVENT
DTSTAMP:20260421T234430Z
UID:event-2542-2022-08-21T10:00:00+02:00-2022-08-21T14:00:00+02:00
DTSTART;TZID=Europe/Madrid:20220821T100000
DTEND;TZID=Europe/Madrid:20220821T140000
DESCRIPTION:La muestra tiene un carácter fundamentalmente didáctico e int
 eractivo y se articula en varias secciones temáticas que acercan a los vi
 sitantes a esta aventura teatral y pedagógica.
SUMMARY:La Barraca Teatro y Universidad: Ayer y hoy de una utopía
END:VEVENT
BEGIN:VEVENT
DTSTAMP:20260421T234430Z
UID:event-2542-2022-08-23T16:00:00+02:00-2022-08-23T20:00:00+02:00
DTSTART;TZID=Europe/Madrid:20220823T160000
DTEND;TZID=Europe/Madrid:20220823T200000
DESCRIPTION:La muestra tiene un carácter fundamentalmente didáctico e int
 eractivo y se articula en varias secciones temáticas que acercan a los vi
 sitantes a esta aventura teatral y pedagógica.
SUMMARY:La Barraca Teatro y Universidad: Ayer y hoy de una utopía
END:VEVENT
BEGIN:VEVENT
DTSTAMP:20260421T234430Z
UID:event-2542-2022-08-24T10:00:00+02:00-2022-08-24T14:00:00+02:00
DTSTART;TZID=Europe/Madrid:20220824T100000
DTEND;TZID=Europe/Madrid:20220824T140000
DESCRIPTION:La muestra tiene un carácter fundamentalmente didáctico e int
 eractivo y se articula en varias secciones temáticas que acercan a los vi
 sitantes a esta aventura teatral y pedagógica.
SUMMARY:La Barraca Teatro y Universidad: Ayer y hoy de una utopía
END:VEVENT
BEGIN:VEVENT
DTSTAMP:20260421T234430Z
UID:event-2542-2022-08-24T16:00:00+02:00-2022-08-24T20:00:00+02:00
DTSTART;TZID=Europe/Madrid:20220824T160000
DTEND;TZID=Europe/Madrid:20220824T200000
DESCRIPTION:La muestra tiene un carácter fundamentalmente didáctico e int
 eractivo y se articula en varias secciones temáticas que acercan a los vi
 sitantes a esta aventura teatral y pedagógica.
SUMMARY:La Barraca Teatro y Universidad: Ayer y hoy de una utopía
END:VEVENT
BEGIN:VEVENT
DTSTAMP:20260421T234430Z
UID:event-2542-2022-08-25T10:00:00+02:00-2022-08-25T14:00:00+02:00
DTSTART;TZID=Europe/Madrid:20220825T100000
DTEND;TZID=Europe/Madrid:20220825T140000
DESCRIPTION:La muestra tiene un carácter fundamentalmente didáctico e int
 eractivo y se articula en varias secciones temáticas que acercan a los vi
 sitantes a esta aventura teatral y pedagógica.
SUMMARY:La Barraca Teatro y Universidad: Ayer y hoy de una utopía
END:VEVENT
BEGIN:VEVENT
DTSTAMP:20260421T234430Z
UID:event-2542-2022-08-25T16:00:00+02:00-2022-08-25T20:00:00+02:00
DTSTART;TZID=Europe/Madrid:20220825T160000
DTEND;TZID=Europe/Madrid:20220825T200000
DESCRIPTION:La muestra tiene un carácter fundamentalmente didáctico e int
 eractivo y se articula en varias secciones temáticas que acercan a los vi
 sitantes a esta aventura teatral y pedagógica.
SUMMARY:La Barraca Teatro y Universidad: Ayer y hoy de una utopía
END:VEVENT
BEGIN:VEVENT
DTSTAMP:20260421T234430Z
UID:event-2542-2022-08-26T10:00:00+02:00-2022-08-26T14:00:00+02:00
DTSTART;TZID=Europe/Madrid:20220826T100000
DTEND;TZID=Europe/Madrid:20220826T140000
DESCRIPTION:La muestra tiene un carácter fundamentalmente didáctico e int
 eractivo y se articula en varias secciones temáticas que acercan a los vi
 sitantes a esta aventura teatral y pedagógica.
SUMMARY:La Barraca Teatro y Universidad: Ayer y hoy de una utopía
END:VEVENT
BEGIN:VEVENT
DTSTAMP:20260421T234430Z
UID:event-2542-2022-08-26T16:00:00+02:00-2022-08-26T20:00:00+02:00
DTSTART;TZID=Europe/Madrid:20220826T160000
DTEND;TZID=Europe/Madrid:20220826T200000
DESCRIPTION:La muestra tiene un carácter fundamentalmente didáctico e int
 eractivo y se articula en varias secciones temáticas que acercan a los vi
 sitantes a esta aventura teatral y pedagógica.
SUMMARY:La Barraca Teatro y Universidad: Ayer y hoy de una utopía
END:VEVENT
BEGIN:VEVENT
DTSTAMP:20260421T234430Z
UID:event-2542-2022-08-27T10:00:00+02:00-2022-08-27T18:00:00+02:00
DTSTART;TZID=Europe/Madrid:20220827T100000
DTEND;TZID=Europe/Madrid:20220827T180000
DESCRIPTION:La muestra tiene un carácter fundamentalmente didáctico e int
 eractivo y se articula en varias secciones temáticas que acercan a los vi
 sitantes a esta aventura teatral y pedagógica.
SUMMARY:La Barraca Teatro y Universidad: Ayer y hoy de una utopía
END:VEVENT
BEGIN:VEVENT
DTSTAMP:20260421T234430Z
UID:event-2542-2022-08-28T10:00:00+02:00-2022-08-28T14:00:00+02:00
DTSTART;TZID=Europe/Madrid:20220828T100000
DTEND;TZID=Europe/Madrid:20220828T140000
DESCRIPTION:La muestra tiene un carácter fundamentalmente didáctico e int
 eractivo y se articula en varias secciones temáticas que acercan a los vi
 sitantes a esta aventura teatral y pedagógica.
SUMMARY:La Barraca Teatro y Universidad: Ayer y hoy de una utopía
END:VEVENT
BEGIN:VEVENT
DTSTAMP:20260421T234430Z
UID:event-2542-2022-08-30T16:00:00+02:00-2022-08-30T20:00:00+02:00
DTSTART;TZID=Europe/Madrid:20220830T160000
DTEND;TZID=Europe/Madrid:20220830T200000
DESCRIPTION:La muestra tiene un carácter fundamentalmente didáctico e int
 eractivo y se articula en varias secciones temáticas que acercan a los vi
 sitantes a esta aventura teatral y pedagógica.
SUMMARY:La Barraca Teatro y Universidad: Ayer y hoy de una utopía
END:VEVENT
BEGIN:VEVENT
DTSTAMP:20260421T234430Z
UID:event-2542-2022-08-31T10:00:00+02:00-2022-08-31T14:00:00+02:00
DTSTART;TZID=Europe/Madrid:20220831T100000
DTEND;TZID=Europe/Madrid:20220831T140000
DESCRIPTION:La muestra tiene un carácter fundamentalmente didáctico e int
 eractivo y se articula en varias secciones temáticas que acercan a los vi
 sitantes a esta aventura teatral y pedagógica.
SUMMARY:La Barraca Teatro y Universidad: Ayer y hoy de una utopía
END:VEVENT
BEGIN:VEVENT
DTSTAMP:20260421T234430Z
UID:event-2542-2022-08-31T16:00:00+02:00-2022-08-31T20:00:00+02:00
DTSTART;TZID=Europe/Madrid:20220831T160000
DTEND;TZID=Europe/Madrid:20220831T200000
DESCRIPTION:La muestra tiene un carácter fundamentalmente didáctico e int
 eractivo y se articula en varias secciones temáticas que acercan a los vi
 sitantes a esta aventura teatral y pedagógica.
SUMMARY:La Barraca Teatro y Universidad: Ayer y hoy de una utopía
END:VEVENT
BEGIN:VEVENT
DTSTAMP:20260421T234430Z
UID:event-2542-2022-09-01T10:00:00+02:00-2022-09-01T14:00:00+02:00
DTSTART;TZID=Europe/Madrid:20220901T100000
DTEND;TZID=Europe/Madrid:20220901T140000
DESCRIPTION:La muestra tiene un carácter fundamentalmente didáctico e int
 eractivo y se articula en varias secciones temáticas que acercan a los vi
 sitantes a esta aventura teatral y pedagógica.
SUMMARY:La Barraca Teatro y Universidad: Ayer y hoy de una utopía
END:VEVENT
BEGIN:VEVENT
DTSTAMP:20260421T234430Z
UID:event-2542-2022-09-01T16:00:00+02:00-2022-09-01T20:00:00+02:00
DTSTART;TZID=Europe/Madrid:20220901T160000
DTEND;TZID=Europe/Madrid:20220901T200000
DESCRIPTION:La muestra tiene un carácter fundamentalmente didáctico e int
 eractivo y se articula en varias secciones temáticas que acercan a los vi
 sitantes a esta aventura teatral y pedagógica.
SUMMARY:La Barraca Teatro y Universidad: Ayer y hoy de una utopía
END:VEVENT
BEGIN:VEVENT
DTSTAMP:20260421T234430Z
UID:event-2542-2022-09-02T10:00:00+02:00-2022-09-02T14:00:00+02:00
DTSTART;TZID=Europe/Madrid:20220902T100000
DTEND;TZID=Europe/Madrid:20220902T140000
DESCRIPTION:La muestra tiene un carácter fundamentalmente didáctico e int
 eractivo y se articula en varias secciones temáticas que acercan a los vi
 sitantes a esta aventura teatral y pedagógica.
SUMMARY:La Barraca Teatro y Universidad: Ayer y hoy de una utopía
END:VEVENT
BEGIN:VEVENT
DTSTAMP:20260421T234430Z
UID:event-2542-2022-09-02T16:00:00+02:00-2022-09-02T20:00:00+02:00
DTSTART;TZID=Europe/Madrid:20220902T160000
DTEND;TZID=Europe/Madrid:20220902T200000
DESCRIPTION:La muestra tiene un carácter fundamentalmente didáctico e int
 eractivo y se articula en varias secciones temáticas que acercan a los vi
 sitantes a esta aventura teatral y pedagógica.
SUMMARY:La Barraca Teatro y Universidad: Ayer y hoy de una utopía
END:VEVENT
END:VCALENDAR
