BEGIN:VCALENDAR
VERSION:2.0
PRODID:icalendar-ruby
CALSCALE:GREGORIAN
METHOD:PUBLISH
BEGIN:VEVENT
DTSTAMP:20260423T154957Z
UID:event-11927-2024-07-26T19:00:00+02:00-none
DTSTART;TZID=Europe/Madrid:20240726T190000
DESCRIPTION:Principios del siglo XVIII. Inglaterra está en guerra contra F
 rancia. Una reina debilitada\, Anne (Olivia Colman)\, ocupa el trono\, mie
 ntras que su amiga Lady Sarah (Rachel Weisz) gobierna en la práctica el p
 aís en su lugar. (FILMAFFINITY)
SUMMARY:"La Favorita"\, de Yorgos Lanthimos (V.O.S.E)
END:VEVENT
BEGIN:VEVENT
DTSTAMP:20260423T154957Z
UID:event-11927-2024-07-28T20:00:00+02:00-none
DTSTART;TZID=Europe/Madrid:20240728T200000
DESCRIPTION:Principios del siglo XVIII. Inglaterra está en guerra contra F
 rancia. Una reina debilitada\, Anne (Olivia Colman)\, ocupa el trono\, mie
 ntras que su amiga Lady Sarah (Rachel Weisz) gobierna en la práctica el p
 aís en su lugar. (FILMAFFINITY)
SUMMARY:"La Favorita"\, de Yorgos Lanthimos (V.O.S.E)
END:VEVENT
END:VCALENDAR
