BEGIN:VCALENDAR
VERSION:2.0
PRODID:icalendar-ruby
CALSCALE:GREGORIAN
METHOD:PUBLISH
BEGIN:VEVENT
DTSTAMP:20260420T142550Z
UID:event-22286-2026-04-21T19:45:00+02:00-none
DTSTART;TZID=Europe/Madrid:20260421T194500
DESCRIPTION:La fantástica ópera de Mozart brilla en esta fascinante produ
 cción de David McVicar. La dirección musical está a cargo de la frances
 a Marie Jacquot\, que realiza con esta obra su debut en Covent Garden.
SUMMARY:"La flauta mágica"\, en directo desde The Royal Opera House
END:VEVENT
END:VCALENDAR
