BEGIN:VCALENDAR
VERSION:2.0
PRODID:icalendar-ruby
CALSCALE:GREGORIAN
METHOD:PUBLISH
BEGIN:VEVENT
DTSTAMP:20260423T161326Z
UID:event-3410-2022-10-12T22:00:00+02:00-none
DTSTART;TZID=Europe/Madrid:20221012T220000
DESCRIPTION:La banda de garaje-punk Telekrimen ofrece un concierto en la sa
 la Rock Beer the New el miércoles 12 de octubre.
SUMMARY:La gira europea de Telekrimen recala en el New
END:VEVENT
END:VCALENDAR
