BEGIN:VCALENDAR
VERSION:2.0
PRODID:icalendar-ruby
CALSCALE:GREGORIAN
METHOD:PUBLISH
BEGIN:VEVENT
DTSTAMP:20260421T215311Z
UID:event-2627-2022-08-20T20:30:00+02:00-none
DTSTART;TZID=Europe/Madrid:20220820T203000
DESCRIPTION:Una trabajadora sexual que sufre distintas adicciones y problem
 as monetarios ve cómo su vida se adentra lentamente en un oscuro abismo.
SUMMARY:"La mala noche"\, dirigida por Gabriela Calvache
END:VEVENT
END:VCALENDAR
