BEGIN:VCALENDAR
VERSION:2.0
PRODID:icalendar-ruby
CALSCALE:GREGORIAN
METHOD:PUBLISH
BEGIN:VEVENT
DTSTAMP:20260424T144324Z
UID:event-12802-2024-09-27T19:00:00+02:00-none
DTSTART;TZID=Europe/Madrid:20240927T190000
DESCRIPTION:El viernes 27 de septiembre el Centro Cultural Europeo Eureka c
 elebra “La Noche de Europa” con diversas actividades.
SUMMARY:La Noche de Europa: charla\, quiz con premios y proyección
END:VEVENT
END:VCALENDAR
