BEGIN:VCALENDAR
VERSION:2.0
PRODID:icalendar-ruby
CALSCALE:GREGORIAN
METHOD:PUBLISH
BEGIN:VEVENT
DTSTAMP:20260423T114216Z
UID:event-22362-2026-04-23T19:30:00+02:00-2026-04-23T21:00:00+02:00
DTSTART;TZID=Europe/Madrid:20260423T193000
DTEND;TZID=Europe/Madrid:20260423T210000
DESCRIPTION:En esta acción formativa y durante seis sesiones\, los partici
 pantes abordarán cómo el desplazamiento físico se convierte en el cine 
 en una herramienta narrativa para explorar conflictos emocionales\, social
 es y existenciales.
SUMMARY:"La road movie: viaje\, identidad y transformación"\, curso
END:VEVENT
BEGIN:VEVENT
DTSTAMP:20260423T114216Z
UID:event-22362-2026-04-30T19:30:00+02:00-2026-04-30T21:00:00+02:00
DTSTART;TZID=Europe/Madrid:20260430T193000
DTEND;TZID=Europe/Madrid:20260430T210000
DESCRIPTION:En esta acción formativa y durante seis sesiones\, los partici
 pantes abordarán cómo el desplazamiento físico se convierte en el cine 
 en una herramienta narrativa para explorar conflictos emocionales\, social
 es y existenciales.
SUMMARY:"La road movie: viaje\, identidad y transformación"\, curso
END:VEVENT
BEGIN:VEVENT
DTSTAMP:20260423T114216Z
UID:event-22362-2026-05-07T19:30:00+02:00-2026-05-07T21:00:00+02:00
DTSTART;TZID=Europe/Madrid:20260507T193000
DTEND;TZID=Europe/Madrid:20260507T210000
DESCRIPTION:En esta acción formativa y durante seis sesiones\, los partici
 pantes abordarán cómo el desplazamiento físico se convierte en el cine 
 en una herramienta narrativa para explorar conflictos emocionales\, social
 es y existenciales.
SUMMARY:"La road movie: viaje\, identidad y transformación"\, curso
END:VEVENT
BEGIN:VEVENT
DTSTAMP:20260423T114216Z
UID:event-22362-2026-05-14T19:30:00+02:00-2026-05-14T21:00:00+02:00
DTSTART;TZID=Europe/Madrid:20260514T193000
DTEND;TZID=Europe/Madrid:20260514T210000
DESCRIPTION:En esta acción formativa y durante seis sesiones\, los partici
 pantes abordarán cómo el desplazamiento físico se convierte en el cine 
 en una herramienta narrativa para explorar conflictos emocionales\, social
 es y existenciales.
SUMMARY:"La road movie: viaje\, identidad y transformación"\, curso
END:VEVENT
BEGIN:VEVENT
DTSTAMP:20260423T114216Z
UID:event-22362-2026-05-21T19:30:00+02:00-2026-05-21T21:00:00+02:00
DTSTART;TZID=Europe/Madrid:20260521T193000
DTEND;TZID=Europe/Madrid:20260521T210000
DESCRIPTION:En esta acción formativa y durante seis sesiones\, los partici
 pantes abordarán cómo el desplazamiento físico se convierte en el cine 
 en una herramienta narrativa para explorar conflictos emocionales\, social
 es y existenciales.
SUMMARY:"La road movie: viaje\, identidad y transformación"\, curso
END:VEVENT
BEGIN:VEVENT
DTSTAMP:20260423T114216Z
UID:event-22362-2026-05-28T19:30:00+02:00-2026-05-28T21:00:00+02:00
DTSTART;TZID=Europe/Madrid:20260528T193000
DTEND;TZID=Europe/Madrid:20260528T210000
DESCRIPTION:En esta acción formativa y durante seis sesiones\, los partici
 pantes abordarán cómo el desplazamiento físico se convierte en el cine 
 en una herramienta narrativa para explorar conflictos emocionales\, social
 es y existenciales.
SUMMARY:"La road movie: viaje\, identidad y transformación"\, curso
END:VEVENT
END:VCALENDAR
