BEGIN:VCALENDAR
VERSION:2.0
PRODID:icalendar-ruby
CALSCALE:GREGORIAN
METHOD:PUBLISH
BEGIN:VEVENT
DTSTAMP:20260423T154000Z
UID:event-18704-2025-10-18T10:30:00+02:00-none
DTSTART;TZID=Europe/Madrid:20251018T103000
DESCRIPTION:Nos adentraremos en los modos de vida del Paleolítico para con
 ocer las necesidades de las personas que vivieron hace más de 10.000 año
 s. Hay animales\, pero ¿cómo podemos cazarlos? 
SUMMARY:"La subsistencia paleolítica: ¿cómo se obtenían los alimentos?"
 \, actividad didáctica
END:VEVENT
BEGIN:VEVENT
DTSTAMP:20260423T154000Z
UID:event-18704-2025-10-18T12:00:00+02:00-none
DTSTART;TZID=Europe/Madrid:20251018T120000
DESCRIPTION:Nos adentraremos en los modos de vida del Paleolítico para con
 ocer las necesidades de las personas que vivieron hace más de 10.000 año
 s. Hay animales\, pero ¿cómo podemos cazarlos? 
SUMMARY:"La subsistencia paleolítica: ¿cómo se obtenían los alimentos?"
 \, actividad didáctica
END:VEVENT
BEGIN:VEVENT
DTSTAMP:20260423T154000Z
UID:event-18704-2025-10-19T10:30:00+02:00-none
DTSTART;TZID=Europe/Madrid:20251019T103000
DESCRIPTION:Nos adentraremos en los modos de vida del Paleolítico para con
 ocer las necesidades de las personas que vivieron hace más de 10.000 año
 s. Hay animales\, pero ¿cómo podemos cazarlos? 
SUMMARY:"La subsistencia paleolítica: ¿cómo se obtenían los alimentos?"
 \, actividad didáctica
END:VEVENT
BEGIN:VEVENT
DTSTAMP:20260423T154000Z
UID:event-18704-2025-10-19T12:00:00+02:00-none
DTSTART;TZID=Europe/Madrid:20251019T120000
DESCRIPTION:Nos adentraremos en los modos de vida del Paleolítico para con
 ocer las necesidades de las personas que vivieron hace más de 10.000 año
 s. Hay animales\, pero ¿cómo podemos cazarlos? 
SUMMARY:"La subsistencia paleolítica: ¿cómo se obtenían los alimentos?"
 \, actividad didáctica
END:VEVENT
END:VCALENDAR
