BEGIN:VCALENDAR
VERSION:2.0
PRODID:icalendar-ruby
CALSCALE:GREGORIAN
METHOD:PUBLISH
BEGIN:VEVENT
DTSTAMP:20260423T154000Z
UID:event-5018-2023-02-18T21:30:00+01:00-none
DTSTART;TZID=Europe/Madrid:20230218T213000
DESCRIPTION:Látex Diamond es un MC madrileño\, miembro de LaTragam y de U
 glyworkz. Sholo Truthman es el nombre artístico de Víctor Fernández\, u
 n DJ\, productor musical\, talkboxer y MC madrileño\, miembro también de
  LaTragam y de Uglyworkz.
SUMMARY:Latex Diamond & Sholo Truth
END:VEVENT
END:VCALENDAR
