BEGIN:VCALENDAR
VERSION:2.0
PRODID:icalendar-ruby
CALSCALE:GREGORIAN
METHOD:PUBLISH
BEGIN:VEVENT
DTSTAMP:20260419T125049Z
UID:event-22289-2026-04-23T19:00:00+02:00-none
DTSTART;TZID=Europe/Madrid:20260423T190000
DESCRIPTION:La cita propone un espacio de encuentro en torno a la literatur
 a escrita por mujeres\, invitando al público a compartir la palabra en un
  ambiente cercano.
SUMMARY:Lectura de textos de autoras por el Día del Libro
END:VEVENT
END:VCALENDAR
