BEGIN:VCALENDAR
VERSION:2.0
PRODID:icalendar-ruby
CALSCALE:GREGORIAN
METHOD:PUBLISH
BEGIN:VEVENT
DTSTAMP:20260419T125206Z
UID:event-19993-2025-12-10T20:00:00+01:00-none
DTSTART;TZID=Europe/Madrid:20251210T200000
DESCRIPTION:Marcia\, una joven cantante\, grabó un álbum con Daredjane\, 
 un icono del rock de los 70 que muere accidentalmente\, antes del lanzamie
 nto del álbum. 
SUMMARY:"Les goûts et les couleurs"\, de Michel Leclerc (V.O.S.E.)
END:VEVENT
BEGIN:VEVENT
DTSTAMP:20260419T125206Z
UID:event-19993-2025-12-14T17:30:00+01:00-none
DTSTART;TZID=Europe/Madrid:20251214T173000
DESCRIPTION:Marcia\, una joven cantante\, grabó un álbum con Daredjane\, 
 un icono del rock de los 70 que muere accidentalmente\, antes del lanzamie
 nto del álbum. 
SUMMARY:"Les goûts et les couleurs"\, de Michel Leclerc (V.O.S.E.)
END:VEVENT
END:VCALENDAR
