BEGIN:VCALENDAR
VERSION:2.0
PRODID:icalendar-ruby
CALSCALE:GREGORIAN
METHOD:PUBLISH
BEGIN:VEVENT
DTSTAMP:20260419T125551Z
UID:event-1466-2022-05-13T18:30:00+02:00-none
DTSTART;TZID=Europe/Madrid:20220513T183000
DESCRIPTION:Viena\, 1900. Stefan Brand\, un famoso pianista\, recibe una ca
 rta de una mujer con la que mantuvo\, en el pasado\, una relación amorosa
  que ya no recuerda. Lisa es para él una desconocida\, alguien que ha pas
 ado por su vida sin dejar huella
SUMMARY:Libros que se convierten en película: Carta a una desconocida
END:VEVENT
BEGIN:VEVENT
DTSTAMP:20260419T125551Z
UID:event-1466-2022-06-10T18:30:00+02:00-none
DTSTART;TZID=Europe/Madrid:20220610T183000
DESCRIPTION:Viena\, 1900. Stefan Brand\, un famoso pianista\, recibe una ca
 rta de una mujer con la que mantuvo\, en el pasado\, una relación amorosa
  que ya no recuerda. Lisa es para él una desconocida\, alguien que ha pas
 ado por su vida sin dejar huella
SUMMARY:Libros que se convierten en película: Carta a una desconocida
END:VEVENT
END:VCALENDAR
