BEGIN:VCALENDAR
VERSION:2.0
PRODID:icalendar-ruby
CALSCALE:GREGORIAN
METHOD:PUBLISH
BEGIN:VEVENT
DTSTAMP:20260423T160854Z
UID:event-19961-2025-12-14T20:30:00+01:00-none
DTSTART;TZID=Europe/Madrid:20251214T203000
DESCRIPTION:Proyecto acústico y de autor\, canciones originales con una gr
 an carga emocional y la influencia de multitud de referencias musicales. 
SUMMARY:Linker\, con Paco Prieto a la guitarra
END:VEVENT
END:VCALENDAR
