BEGIN:VCALENDAR
VERSION:2.0
PRODID:icalendar-ruby
CALSCALE:GREGORIAN
METHOD:PUBLISH
BEGIN:VEVENT
DTSTAMP:20260421T164918Z
UID:event-16241-2025-04-27T10:00:00+02:00-2025-04-27T13:30:00+02:00
DTSTART;TZID=Europe/Madrid:20250427T100000
DTEND;TZID=Europe/Madrid:20250427T133000
DESCRIPTION:Los bomberos de Santander abrirán las puertas de su parque est
 e domingo 27 con el objetivo de mostrar su labor diaria a través de la re
 alización de maniobras y actividades divulgativas.
SUMMARY:Los bomberos celebran su jornada de puertas abiertas
END:VEVENT
END:VCALENDAR
