BEGIN:VCALENDAR
VERSION:2.0
PRODID:icalendar-ruby
CALSCALE:GREGORIAN
METHOD:PUBLISH
BEGIN:VEVENT
DTSTAMP:20260423T154849Z
UID:event-4852-2023-02-09T20:30:00+01:00-none
DTSTART;TZID=Europe/Madrid:20230209T203000
DESCRIPTION:Un grupo de jóvenes comparte un mismo interés: la idiotez. Co
 n una casa de campo como base\, pasan su tiempo libre juntos explorando lo
 s ocultos y poco apreciados valores de la idiotez. 
SUMMARY:"Los idiotas"\, de Lars von Trier (V.O.S.)
END:VEVENT
BEGIN:VEVENT
DTSTAMP:20260423T154849Z
UID:event-4852-2023-02-12T17:00:00+01:00-none
DTSTART;TZID=Europe/Madrid:20230212T170000
DESCRIPTION:Un grupo de jóvenes comparte un mismo interés: la idiotez. Co
 n una casa de campo como base\, pasan su tiempo libre juntos explorando lo
 s ocultos y poco apreciados valores de la idiotez. 
SUMMARY:"Los idiotas"\, de Lars von Trier (V.O.S.)
END:VEVENT
BEGIN:VEVENT
DTSTAMP:20260423T154849Z
UID:event-4852-2023-02-12T19:15:00+01:00-none
DTSTART;TZID=Europe/Madrid:20230212T191500
DESCRIPTION:Un grupo de jóvenes comparte un mismo interés: la idiotez. Co
 n una casa de campo como base\, pasan su tiempo libre juntos explorando lo
 s ocultos y poco apreciados valores de la idiotez. 
SUMMARY:"Los idiotas"\, de Lars von Trier (V.O.S.)
END:VEVENT
END:VCALENDAR
