BEGIN:VCALENDAR
VERSION:2.0
PRODID:icalendar-ruby
CALSCALE:GREGORIAN
METHOD:PUBLISH
BEGIN:VEVENT
DTSTAMP:20260423T155224Z
UID:event-9781-2024-02-23T19:30:00+01:00-none
DTSTART;TZID=Europe/Madrid:20240223T193000
DESCRIPTION:Esta conferencia estará impartida por Gonzalo Pedro Sánchez E
 guren\; Licenciado en Historia\, en Ciencias Políticas y Sociología\, as
 í como en Antropología Social y Cultural.
SUMMARY:“Marcelino Sanz de Sautuola\, 135 años después. Un pionero de l
 a Prehistoria en Cantabria”\, charla
END:VEVENT
END:VCALENDAR
