BEGIN:VCALENDAR
VERSION:2.0
PRODID:icalendar-ruby
CALSCALE:GREGORIAN
METHOD:PUBLISH
BEGIN:VEVENT
DTSTAMP:20260420T143757Z
UID:event-22198-2026-04-23T19:30:00+02:00-none
DTSTART;TZID=Europe/Madrid:20260423T193000
DESCRIPTION:Hace más del siglo alguien tuvo una idea. Una visión\, realme
 nte. Bicis\, muchas bicis\, bicis recorriendo Cantabria\, bicis saludando 
 los pueblos que por cántabros se titulan. Un periódico\, un nombre\, un 
 sueño.
SUMMARY:Marcos Pereda presenta y firma de ejemplares de "Historia de la Vue
 lta Ciclista a Cantabria"
END:VEVENT
END:VCALENDAR
