BEGIN:VCALENDAR
VERSION:2.0
PRODID:icalendar-ruby
CALSCALE:GREGORIAN
METHOD:PUBLISH
BEGIN:VEVENT
DTSTAMP:20260422T163457Z
UID:event-1615-2022-07-21T18:00:00+02:00-2022-07-21T20:00:00+02:00
DTSTART;TZID=Europe/Madrid:20220721T180000
DTEND;TZID=Europe/Madrid:20220721T200000
DESCRIPTION:El 21 de julio de 18:00 a 20:00 h se abordará la técnica mien
 tras que el 22 de julio de 11:00 a 13:00 h. se dedicará a variaciones de 
 cuerpo 
SUMMARY:Master class de flamenco con Belen Maya
END:VEVENT
BEGIN:VEVENT
DTSTAMP:20260422T163457Z
UID:event-1615-2022-07-22T11:00:00+02:00-2022-07-22T13:00:00+02:00
DTSTART;TZID=Europe/Madrid:20220722T110000
DTEND;TZID=Europe/Madrid:20220722T130000
DESCRIPTION:El 21 de julio de 18:00 a 20:00 h se abordará la técnica mien
 tras que el 22 de julio de 11:00 a 13:00 h. se dedicará a variaciones de 
 cuerpo 
SUMMARY:Master class de flamenco con Belen Maya
END:VEVENT
END:VCALENDAR
