BEGIN:VCALENDAR
VERSION:2.0
PRODID:icalendar-ruby
CALSCALE:GREGORIAN
METHOD:PUBLISH
BEGIN:VEVENT
DTSTAMP:20260421T165225Z
UID:event-3306-2022-10-13T18:00:00+02:00-none
DTSTART;TZID=Europe/Madrid:20221013T180000
DESCRIPTION:Adaptación de la novela homónima de Harper Lee. En la época 
 de la Gran Depresión\, en una población sureña\, Atticus Finch (Gregory
  Peck) es un abogado que defiende a un hombre negro acusado de haber viola
 do a una mujer blanca.
SUMMARY:"Matar a un ruiseñor"\, de Robert Mulligan
END:VEVENT
END:VCALENDAR
