BEGIN:VCALENDAR
VERSION:2.0
PRODID:icalendar-ruby
CALSCALE:GREGORIAN
METHOD:PUBLISH
BEGIN:VEVENT
DTSTAMP:20260422T164357Z
UID:event-20934-2026-02-06T19:30:00+01:00-none
DTSTART;TZID=Europe/Madrid:20260206T193000
DESCRIPTION:Una muestra dedicada íntegramente a honrar y valorar la memori
 a y el legado médico\, social y pedagógico de este singular cántabro cu
 ando se acaba de cumplir el 175 aniversario de su nacimiento.
SUMMARY:"Memoria de una visión humanista. Exposición sobre la vida y lega
 do del Doctor Madrazo (1850-1942)". Inauguración
END:VEVENT
END:VCALENDAR
