BEGIN:VCALENDAR
VERSION:2.0
PRODID:icalendar-ruby
CALSCALE:GREGORIAN
METHOD:PUBLISH
BEGIN:VEVENT
DTSTAMP:20260420T142722Z
UID:event-5565-2023-04-14T17:00:00+02:00-2023-04-14T23:00:00+02:00
DTSTART;TZID=Europe/Madrid:20230414T170000
DTEND;TZID=Europe/Madrid:20230414T230000
DESCRIPTION:Vuelven las Minas Tirith Pocket\, un evento que engloba todo lo
  que nos gusta de las Jornadas Minas Tirith en dos días plagados de activ
 idad. 
SUMMARY:Minas Tirith Pocket
END:VEVENT
BEGIN:VEVENT
DTSTAMP:20260420T142722Z
UID:event-5565-2023-04-15T17:00:00+02:00-2023-04-15T23:00:00+02:00
DTSTART;TZID=Europe/Madrid:20230415T170000
DTEND;TZID=Europe/Madrid:20230415T230000
DESCRIPTION:Vuelven las Minas Tirith Pocket\, un evento que engloba todo lo
  que nos gusta de las Jornadas Minas Tirith en dos días plagados de activ
 idad. 
SUMMARY:Minas Tirith Pocket
END:VEVENT
END:VCALENDAR
