BEGIN:VCALENDAR
VERSION:2.0
PRODID:icalendar-ruby
CALSCALE:GREGORIAN
METHOD:PUBLISH
BEGIN:VEVENT
DTSTAMP:20260421T171627Z
UID:event-18599-2025-10-05T19:00:00+02:00-none
DTSTART;TZID=Europe/Madrid:20251005T190000
DESCRIPTION:Maider Rubio y Cristian Londoño presentan “Minucias”\, un
 a pieza inmersiva performativa acompañada de música en directo y suspe
 nsiones aéreas\, creando una conexión íntima entre los asistentes y e
 l espacio.
SUMMARY:"Minucias"\, de Maider Rubio y Cristian Londoño. Suspensiones aé
 reas con música en directo
END:VEVENT
BEGIN:VEVENT
DTSTAMP:20260421T171627Z
UID:event-18599-2025-10-05T19:25:00+02:00-none
DTSTART;TZID=Europe/Madrid:20251005T192500
DESCRIPTION:Maider Rubio y Cristian Londoño presentan “Minucias”\, un
 a pieza inmersiva performativa acompañada de música en directo y suspe
 nsiones aéreas\, creando una conexión íntima entre los asistentes y e
 l espacio.
SUMMARY:"Minucias"\, de Maider Rubio y Cristian Londoño. Suspensiones aé
 reas con música en directo
END:VEVENT
BEGIN:VEVENT
DTSTAMP:20260421T171627Z
UID:event-18599-2025-10-05T19:50:00+02:00-none
DTSTART;TZID=Europe/Madrid:20251005T195000
DESCRIPTION:Maider Rubio y Cristian Londoño presentan “Minucias”\, un
 a pieza inmersiva performativa acompañada de música en directo y suspe
 nsiones aéreas\, creando una conexión íntima entre los asistentes y e
 l espacio.
SUMMARY:"Minucias"\, de Maider Rubio y Cristian Londoño. Suspensiones aé
 reas con música en directo
END:VEVENT
BEGIN:VEVENT
DTSTAMP:20260421T171627Z
UID:event-18599-2025-10-05T20:15:00+02:00-none
DTSTART;TZID=Europe/Madrid:20251005T201500
DESCRIPTION:Maider Rubio y Cristian Londoño presentan “Minucias”\, un
 a pieza inmersiva performativa acompañada de música en directo y suspe
 nsiones aéreas\, creando una conexión íntima entre los asistentes y e
 l espacio.
SUMMARY:"Minucias"\, de Maider Rubio y Cristian Londoño. Suspensiones aé
 reas con música en directo
END:VEVENT
BEGIN:VEVENT
DTSTAMP:20260421T171627Z
UID:event-18599-2025-10-05T20:40:00+02:00-none
DTSTART;TZID=Europe/Madrid:20251005T204000
DESCRIPTION:Maider Rubio y Cristian Londoño presentan “Minucias”\, un
 a pieza inmersiva performativa acompañada de música en directo y suspe
 nsiones aéreas\, creando una conexión íntima entre los asistentes y e
 l espacio.
SUMMARY:"Minucias"\, de Maider Rubio y Cristian Londoño. Suspensiones aé
 reas con música en directo
END:VEVENT
END:VCALENDAR
