BEGIN:VCALENDAR
VERSION:2.0
PRODID:icalendar-ruby
CALSCALE:GREGORIAN
METHOD:PUBLISH
BEGIN:VEVENT
DTSTAMP:20260423T100820Z
UID:event-20535-2026-02-27T19:30:00+01:00-none
DTSTART;TZID=Europe/Madrid:20260227T193000
DESCRIPTION:Con una célebre carrera que abarca más de cinco décadas\, Pi
 nchas Zukerman es uno de los músicos más solicitados y versátiles de la
  actualidad: solista de violín y viola\, director de orquesta y músico d
 e cámara.
SUMMARY:Orquesta Sinfónica de Varsovia
END:VEVENT
END:VCALENDAR
