BEGIN:VCALENDAR
VERSION:2.0
PRODID:icalendar-ruby
CALSCALE:GREGORIAN
METHOD:PUBLISH
BEGIN:VEVENT
DTSTAMP:20260422T090330Z
UID:event-21034-2026-02-28T19:30:00+01:00-none
DTSTART;TZID=Europe/Madrid:20260228T193000
DESCRIPTION: Subirá al escenario del cine Paco Páez con su “Monólogo
 ”\, tras más de diez años recorriendo escenarios por toda España y La
 tino América\, desde teatros y clubes de comedia hasta palés\, remolques
  o cajas de Coca Cola.
SUMMARY:Paco Páez lleva a Los Ángeles su “Monólogo”
END:VEVENT
END:VCALENDAR
