BEGIN:VCALENDAR
VERSION:2.0
PRODID:icalendar-ruby
CALSCALE:GREGORIAN
METHOD:PUBLISH
BEGIN:VEVENT
DTSTAMP:20260423T101611Z
UID:event-10463-2024-04-07T20:30:00+02:00-none
DTSTART;TZID=Europe/Madrid:20240407T203000
DESCRIPTION:Pink\, el cantante de un grupo musical\, arrastra desde su infa
 ncia una serie de traumas debido a la dura educación que recibió. Cansad
 o de todo lo que rodea su profesión\, se acaba refugiando en las drogas.
SUMMARY:"Pink Floyd: El muro"\, de Alan Parker (V.O.S.E.)
END:VEVENT
BEGIN:VEVENT
DTSTAMP:20260423T101611Z
UID:event-10463-2024-04-10T17:30:00+02:00-none
DTSTART;TZID=Europe/Madrid:20240410T173000
DESCRIPTION:Pink\, el cantante de un grupo musical\, arrastra desde su infa
 ncia una serie de traumas debido a la dura educación que recibió. Cansad
 o de todo lo que rodea su profesión\, se acaba refugiando en las drogas.
SUMMARY:"Pink Floyd: El muro"\, de Alan Parker (V.O.S.E.)
END:VEVENT
BEGIN:VEVENT
DTSTAMP:20260423T101611Z
UID:event-10463-2024-04-11T20:00:00+02:00-none
DTSTART;TZID=Europe/Madrid:20240411T200000
DESCRIPTION:Pink\, el cantante de un grupo musical\, arrastra desde su infa
 ncia una serie de traumas debido a la dura educación que recibió. Cansad
 o de todo lo que rodea su profesión\, se acaba refugiando en las drogas.
SUMMARY:"Pink Floyd: El muro"\, de Alan Parker (V.O.S.E.)
END:VEVENT
END:VCALENDAR
