BEGIN:VCALENDAR
VERSION:2.0
PRODID:icalendar-ruby
CALSCALE:GREGORIAN
METHOD:PUBLISH
BEGIN:VEVENT
DTSTAMP:20260424T164721Z
UID:event-12114-2024-07-23T21:00:00+02:00-none
DTSTART;TZID=Europe/Madrid:20240723T210000
DESCRIPTION:Su estilo musical resulta imposible de concretar\, pues en sus 
 shows la cumbia convive con el ska\, el merengue con el balkan\, las ranch
 eras con el funk\, y la bachata con el rap y reggaetón.
SUMMARY:Plazas Sound: The Chigros
END:VEVENT
END:VCALENDAR
