BEGIN:VCALENDAR
VERSION:2.0
PRODID:icalendar-ruby
CALSCALE:GREGORIAN
METHOD:PUBLISH
BEGIN:VEVENT
DTSTAMP:20260420T143948Z
UID:event-20469-2026-01-07-2026-01-07
DTSTART;VALUE=DATE:20260107
DTEND;VALUE=DATE:20260107
DESCRIPTION:Desde la Dirección General de Juventud\, Cooperación al Desar
 rollo y Voluntariado del Gobierno se ha convocado una nueva edición de lo
 s Premios Nacionales Pancho Cossío.
SUMMARY:Premios Nacionales Pancho Cossío
END:VEVENT
BEGIN:VEVENT
DTSTAMP:20260420T143948Z
UID:event-20469-2026-01-08-2026-01-08
DTSTART;VALUE=DATE:20260108
DTEND;VALUE=DATE:20260108
DESCRIPTION:Desde la Dirección General de Juventud\, Cooperación al Desar
 rollo y Voluntariado del Gobierno se ha convocado una nueva edición de lo
 s Premios Nacionales Pancho Cossío.
SUMMARY:Premios Nacionales Pancho Cossío
END:VEVENT
BEGIN:VEVENT
DTSTAMP:20260420T143948Z
UID:event-20469-2026-01-09-2026-01-09
DTSTART;VALUE=DATE:20260109
DTEND;VALUE=DATE:20260109
DESCRIPTION:Desde la Dirección General de Juventud\, Cooperación al Desar
 rollo y Voluntariado del Gobierno se ha convocado una nueva edición de lo
 s Premios Nacionales Pancho Cossío.
SUMMARY:Premios Nacionales Pancho Cossío
END:VEVENT
BEGIN:VEVENT
DTSTAMP:20260420T143948Z
UID:event-20469-2026-01-10-2026-01-10
DTSTART;VALUE=DATE:20260110
DTEND;VALUE=DATE:20260110
DESCRIPTION:Desde la Dirección General de Juventud\, Cooperación al Desar
 rollo y Voluntariado del Gobierno se ha convocado una nueva edición de lo
 s Premios Nacionales Pancho Cossío.
SUMMARY:Premios Nacionales Pancho Cossío
END:VEVENT
BEGIN:VEVENT
DTSTAMP:20260420T143948Z
UID:event-20469-2026-01-11-2026-01-11
DTSTART;VALUE=DATE:20260111
DTEND;VALUE=DATE:20260111
DESCRIPTION:Desde la Dirección General de Juventud\, Cooperación al Desar
 rollo y Voluntariado del Gobierno se ha convocado una nueva edición de lo
 s Premios Nacionales Pancho Cossío.
SUMMARY:Premios Nacionales Pancho Cossío
END:VEVENT
BEGIN:VEVENT
DTSTAMP:20260420T143948Z
UID:event-20469-2026-01-12-2026-01-12
DTSTART;VALUE=DATE:20260112
DTEND;VALUE=DATE:20260112
DESCRIPTION:Desde la Dirección General de Juventud\, Cooperación al Desar
 rollo y Voluntariado del Gobierno se ha convocado una nueva edición de lo
 s Premios Nacionales Pancho Cossío.
SUMMARY:Premios Nacionales Pancho Cossío
END:VEVENT
BEGIN:VEVENT
DTSTAMP:20260420T143948Z
UID:event-20469-2026-01-13-2026-01-13
DTSTART;VALUE=DATE:20260113
DTEND;VALUE=DATE:20260113
DESCRIPTION:Desde la Dirección General de Juventud\, Cooperación al Desar
 rollo y Voluntariado del Gobierno se ha convocado una nueva edición de lo
 s Premios Nacionales Pancho Cossío.
SUMMARY:Premios Nacionales Pancho Cossío
END:VEVENT
BEGIN:VEVENT
DTSTAMP:20260420T143948Z
UID:event-20469-2026-01-14-2026-01-14
DTSTART;VALUE=DATE:20260114
DTEND;VALUE=DATE:20260114
DESCRIPTION:Desde la Dirección General de Juventud\, Cooperación al Desar
 rollo y Voluntariado del Gobierno se ha convocado una nueva edición de lo
 s Premios Nacionales Pancho Cossío.
SUMMARY:Premios Nacionales Pancho Cossío
END:VEVENT
BEGIN:VEVENT
DTSTAMP:20260420T143948Z
UID:event-20469-2026-01-15-2026-01-15
DTSTART;VALUE=DATE:20260115
DTEND;VALUE=DATE:20260115
DESCRIPTION:Desde la Dirección General de Juventud\, Cooperación al Desar
 rollo y Voluntariado del Gobierno se ha convocado una nueva edición de lo
 s Premios Nacionales Pancho Cossío.
SUMMARY:Premios Nacionales Pancho Cossío
END:VEVENT
BEGIN:VEVENT
DTSTAMP:20260420T143948Z
UID:event-20469-2026-01-16-2026-01-16
DTSTART;VALUE=DATE:20260116
DTEND;VALUE=DATE:20260116
DESCRIPTION:Desde la Dirección General de Juventud\, Cooperación al Desar
 rollo y Voluntariado del Gobierno se ha convocado una nueva edición de lo
 s Premios Nacionales Pancho Cossío.
SUMMARY:Premios Nacionales Pancho Cossío
END:VEVENT
BEGIN:VEVENT
DTSTAMP:20260420T143948Z
UID:event-20469-2026-01-17-2026-01-17
DTSTART;VALUE=DATE:20260117
DTEND;VALUE=DATE:20260117
DESCRIPTION:Desde la Dirección General de Juventud\, Cooperación al Desar
 rollo y Voluntariado del Gobierno se ha convocado una nueva edición de lo
 s Premios Nacionales Pancho Cossío.
SUMMARY:Premios Nacionales Pancho Cossío
END:VEVENT
BEGIN:VEVENT
DTSTAMP:20260420T143948Z
UID:event-20469-2026-01-18-2026-01-18
DTSTART;VALUE=DATE:20260118
DTEND;VALUE=DATE:20260118
DESCRIPTION:Desde la Dirección General de Juventud\, Cooperación al Desar
 rollo y Voluntariado del Gobierno se ha convocado una nueva edición de lo
 s Premios Nacionales Pancho Cossío.
SUMMARY:Premios Nacionales Pancho Cossío
END:VEVENT
BEGIN:VEVENT
DTSTAMP:20260420T143948Z
UID:event-20469-2026-01-19-2026-01-19
DTSTART;VALUE=DATE:20260119
DTEND;VALUE=DATE:20260119
DESCRIPTION:Desde la Dirección General de Juventud\, Cooperación al Desar
 rollo y Voluntariado del Gobierno se ha convocado una nueva edición de lo
 s Premios Nacionales Pancho Cossío.
SUMMARY:Premios Nacionales Pancho Cossío
END:VEVENT
BEGIN:VEVENT
DTSTAMP:20260420T143948Z
UID:event-20469-2026-01-20-2026-01-20
DTSTART;VALUE=DATE:20260120
DTEND;VALUE=DATE:20260120
DESCRIPTION:Desde la Dirección General de Juventud\, Cooperación al Desar
 rollo y Voluntariado del Gobierno se ha convocado una nueva edición de lo
 s Premios Nacionales Pancho Cossío.
SUMMARY:Premios Nacionales Pancho Cossío
END:VEVENT
BEGIN:VEVENT
DTSTAMP:20260420T143948Z
UID:event-20469-2026-01-21-2026-01-21
DTSTART;VALUE=DATE:20260121
DTEND;VALUE=DATE:20260121
DESCRIPTION:Desde la Dirección General de Juventud\, Cooperación al Desar
 rollo y Voluntariado del Gobierno se ha convocado una nueva edición de lo
 s Premios Nacionales Pancho Cossío.
SUMMARY:Premios Nacionales Pancho Cossío
END:VEVENT
BEGIN:VEVENT
DTSTAMP:20260420T143948Z
UID:event-20469-2026-01-22-2026-01-22
DTSTART;VALUE=DATE:20260122
DTEND;VALUE=DATE:20260122
DESCRIPTION:Desde la Dirección General de Juventud\, Cooperación al Desar
 rollo y Voluntariado del Gobierno se ha convocado una nueva edición de lo
 s Premios Nacionales Pancho Cossío.
SUMMARY:Premios Nacionales Pancho Cossío
END:VEVENT
BEGIN:VEVENT
DTSTAMP:20260420T143948Z
UID:event-20469-2026-01-23-2026-01-23
DTSTART;VALUE=DATE:20260123
DTEND;VALUE=DATE:20260123
DESCRIPTION:Desde la Dirección General de Juventud\, Cooperación al Desar
 rollo y Voluntariado del Gobierno se ha convocado una nueva edición de lo
 s Premios Nacionales Pancho Cossío.
SUMMARY:Premios Nacionales Pancho Cossío
END:VEVENT
BEGIN:VEVENT
DTSTAMP:20260420T143948Z
UID:event-20469-2026-01-24-2026-01-24
DTSTART;VALUE=DATE:20260124
DTEND;VALUE=DATE:20260124
DESCRIPTION:Desde la Dirección General de Juventud\, Cooperación al Desar
 rollo y Voluntariado del Gobierno se ha convocado una nueva edición de lo
 s Premios Nacionales Pancho Cossío.
SUMMARY:Premios Nacionales Pancho Cossío
END:VEVENT
BEGIN:VEVENT
DTSTAMP:20260420T143948Z
UID:event-20469-2026-01-25-2026-01-25
DTSTART;VALUE=DATE:20260125
DTEND;VALUE=DATE:20260125
DESCRIPTION:Desde la Dirección General de Juventud\, Cooperación al Desar
 rollo y Voluntariado del Gobierno se ha convocado una nueva edición de lo
 s Premios Nacionales Pancho Cossío.
SUMMARY:Premios Nacionales Pancho Cossío
END:VEVENT
BEGIN:VEVENT
DTSTAMP:20260420T143948Z
UID:event-20469-2026-01-26-2026-01-26
DTSTART;VALUE=DATE:20260126
DTEND;VALUE=DATE:20260126
DESCRIPTION:Desde la Dirección General de Juventud\, Cooperación al Desar
 rollo y Voluntariado del Gobierno se ha convocado una nueva edición de lo
 s Premios Nacionales Pancho Cossío.
SUMMARY:Premios Nacionales Pancho Cossío
END:VEVENT
BEGIN:VEVENT
DTSTAMP:20260420T143948Z
UID:event-20469-2026-01-27-2026-01-27
DTSTART;VALUE=DATE:20260127
DTEND;VALUE=DATE:20260127
DESCRIPTION:Desde la Dirección General de Juventud\, Cooperación al Desar
 rollo y Voluntariado del Gobierno se ha convocado una nueva edición de lo
 s Premios Nacionales Pancho Cossío.
SUMMARY:Premios Nacionales Pancho Cossío
END:VEVENT
BEGIN:VEVENT
DTSTAMP:20260420T143948Z
UID:event-20469-2026-01-28-2026-01-28
DTSTART;VALUE=DATE:20260128
DTEND;VALUE=DATE:20260128
DESCRIPTION:Desde la Dirección General de Juventud\, Cooperación al Desar
 rollo y Voluntariado del Gobierno se ha convocado una nueva edición de lo
 s Premios Nacionales Pancho Cossío.
SUMMARY:Premios Nacionales Pancho Cossío
END:VEVENT
BEGIN:VEVENT
DTSTAMP:20260420T143948Z
UID:event-20469-2026-01-29-2026-01-29
DTSTART;VALUE=DATE:20260129
DTEND;VALUE=DATE:20260129
DESCRIPTION:Desde la Dirección General de Juventud\, Cooperación al Desar
 rollo y Voluntariado del Gobierno se ha convocado una nueva edición de lo
 s Premios Nacionales Pancho Cossío.
SUMMARY:Premios Nacionales Pancho Cossío
END:VEVENT
BEGIN:VEVENT
DTSTAMP:20260420T143948Z
UID:event-20469-2026-01-30-2026-01-30
DTSTART;VALUE=DATE:20260130
DTEND;VALUE=DATE:20260130
DESCRIPTION:Desde la Dirección General de Juventud\, Cooperación al Desar
 rollo y Voluntariado del Gobierno se ha convocado una nueva edición de lo
 s Premios Nacionales Pancho Cossío.
SUMMARY:Premios Nacionales Pancho Cossío
END:VEVENT
BEGIN:VEVENT
DTSTAMP:20260420T143948Z
UID:event-20469-2026-01-31-2026-01-31
DTSTART;VALUE=DATE:20260131
DTEND;VALUE=DATE:20260131
DESCRIPTION:Desde la Dirección General de Juventud\, Cooperación al Desar
 rollo y Voluntariado del Gobierno se ha convocado una nueva edición de lo
 s Premios Nacionales Pancho Cossío.
SUMMARY:Premios Nacionales Pancho Cossío
END:VEVENT
BEGIN:VEVENT
DTSTAMP:20260420T143948Z
UID:event-20469-2026-02-01-2026-02-01
DTSTART;VALUE=DATE:20260201
DTEND;VALUE=DATE:20260201
DESCRIPTION:Desde la Dirección General de Juventud\, Cooperación al Desar
 rollo y Voluntariado del Gobierno se ha convocado una nueva edición de lo
 s Premios Nacionales Pancho Cossío.
SUMMARY:Premios Nacionales Pancho Cossío
END:VEVENT
BEGIN:VEVENT
DTSTAMP:20260420T143948Z
UID:event-20469-2026-02-02-2026-02-02
DTSTART;VALUE=DATE:20260202
DTEND;VALUE=DATE:20260202
DESCRIPTION:Desde la Dirección General de Juventud\, Cooperación al Desar
 rollo y Voluntariado del Gobierno se ha convocado una nueva edición de lo
 s Premios Nacionales Pancho Cossío.
SUMMARY:Premios Nacionales Pancho Cossío
END:VEVENT
BEGIN:VEVENT
DTSTAMP:20260420T143948Z
UID:event-20469-2026-02-03-2026-02-03
DTSTART;VALUE=DATE:20260203
DTEND;VALUE=DATE:20260203
DESCRIPTION:Desde la Dirección General de Juventud\, Cooperación al Desar
 rollo y Voluntariado del Gobierno se ha convocado una nueva edición de lo
 s Premios Nacionales Pancho Cossío.
SUMMARY:Premios Nacionales Pancho Cossío
END:VEVENT
BEGIN:VEVENT
DTSTAMP:20260420T143948Z
UID:event-20469-2026-02-04-2026-02-04
DTSTART;VALUE=DATE:20260204
DTEND;VALUE=DATE:20260204
DESCRIPTION:Desde la Dirección General de Juventud\, Cooperación al Desar
 rollo y Voluntariado del Gobierno se ha convocado una nueva edición de lo
 s Premios Nacionales Pancho Cossío.
SUMMARY:Premios Nacionales Pancho Cossío
END:VEVENT
BEGIN:VEVENT
DTSTAMP:20260420T143948Z
UID:event-20469-2026-02-05-2026-02-05
DTSTART;VALUE=DATE:20260205
DTEND;VALUE=DATE:20260205
DESCRIPTION:Desde la Dirección General de Juventud\, Cooperación al Desar
 rollo y Voluntariado del Gobierno se ha convocado una nueva edición de lo
 s Premios Nacionales Pancho Cossío.
SUMMARY:Premios Nacionales Pancho Cossío
END:VEVENT
BEGIN:VEVENT
DTSTAMP:20260420T143948Z
UID:event-20469-2026-02-06-2026-02-06
DTSTART;VALUE=DATE:20260206
DTEND;VALUE=DATE:20260206
DESCRIPTION:Desde la Dirección General de Juventud\, Cooperación al Desar
 rollo y Voluntariado del Gobierno se ha convocado una nueva edición de lo
 s Premios Nacionales Pancho Cossío.
SUMMARY:Premios Nacionales Pancho Cossío
END:VEVENT
BEGIN:VEVENT
DTSTAMP:20260420T143948Z
UID:event-20469-2026-02-07-2026-02-07
DTSTART;VALUE=DATE:20260207
DTEND;VALUE=DATE:20260207
DESCRIPTION:Desde la Dirección General de Juventud\, Cooperación al Desar
 rollo y Voluntariado del Gobierno se ha convocado una nueva edición de lo
 s Premios Nacionales Pancho Cossío.
SUMMARY:Premios Nacionales Pancho Cossío
END:VEVENT
BEGIN:VEVENT
DTSTAMP:20260420T143948Z
UID:event-20469-2026-02-08-2026-02-08
DTSTART;VALUE=DATE:20260208
DTEND;VALUE=DATE:20260208
DESCRIPTION:Desde la Dirección General de Juventud\, Cooperación al Desar
 rollo y Voluntariado del Gobierno se ha convocado una nueva edición de lo
 s Premios Nacionales Pancho Cossío.
SUMMARY:Premios Nacionales Pancho Cossío
END:VEVENT
BEGIN:VEVENT
DTSTAMP:20260420T143948Z
UID:event-20469-2026-02-09-2026-02-09
DTSTART;VALUE=DATE:20260209
DTEND;VALUE=DATE:20260209
DESCRIPTION:Desde la Dirección General de Juventud\, Cooperación al Desar
 rollo y Voluntariado del Gobierno se ha convocado una nueva edición de lo
 s Premios Nacionales Pancho Cossío.
SUMMARY:Premios Nacionales Pancho Cossío
END:VEVENT
END:VCALENDAR
