BEGIN:VCALENDAR
VERSION:2.0
PRODID:icalendar-ruby
CALSCALE:GREGORIAN
METHOD:PUBLISH
BEGIN:VEVENT
DTSTAMP:20260421T164847Z
UID:event-5823-2023-04-13T19:00:00+02:00-none
DTSTART;TZID=Europe/Madrid:20230413T190000
DESCRIPTION:La inspectora Lola Galindo\, con la ayuda de Robles y otros má
 s\, investiga un caso lleno de misterios y secretos\, tanto en el mundo de
 l arte del siglo pasado como en la actualidad.
SUMMARY:Presentación de "Amores que matan"\, de Elia Barceló
END:VEVENT
END:VCALENDAR
