BEGIN:VCALENDAR
VERSION:2.0
PRODID:icalendar-ruby
CALSCALE:GREGORIAN
METHOD:PUBLISH
BEGIN:VEVENT
DTSTAMP:20260420T143758Z
UID:event-11101-2024-05-17T17:30:00+02:00-none
DTSTART;TZID=Europe/Madrid:20240517T173000
DESCRIPTION:Se trata de cuatro divertimentos\, tan graves como humorístico
 s\, que buscan proyectar una especie de cuadrilátero metafórico de nuest
 ras vidas\; cuatro iluminaciones sobre la condición de nuestra época y d
 e nuestra conciencia o falta de ella.
SUMMARY:Presentación de "Por así decirlo" con su autor\, J. Á. González
  Sainz
END:VEVENT
END:VCALENDAR
