BEGIN:VCALENDAR
VERSION:2.0
PRODID:icalendar-ruby
CALSCALE:GREGORIAN
METHOD:PUBLISH
BEGIN:VEVENT
DTSTAMP:20260420T142550Z
UID:event-18249-2025-09-10T19:00:00+02:00-none
DTSTART;TZID=Europe/Madrid:20250910T190000
DESCRIPTION:La presentación del catálogo contará con la comisaria de la 
 muestra\, Laura Olea\, junto a Begoña Gómez\, consejera de Inclusión So
 cial\, Juventud\, Familias e Igualdad del Gobierno de Cantabria\, y el esc
 ritor Santiago Mazarrasa.
SUMMARY:Presentación del catálogo de la exposición de Premios Nacionales
  Pancho Cossío
END:VEVENT
END:VCALENDAR
