BEGIN:VCALENDAR
VERSION:2.0
PRODID:icalendar-ruby
CALSCALE:GREGORIAN
METHOD:PUBLISH
BEGIN:VEVENT
DTSTAMP:20260420T143624Z
UID:event-7081-2023-07-20T19:30:00+02:00-none
DTSTART;TZID=Europe/Madrid:20230720T193000
DESCRIPTION:Se trata de una interesante novela de trasfondo histórico\, do
 nde el personaje principal NASO\, parte de Roma y se enrola en las tropas 
 legionarias que Octavio Augusto envía con el objetivo conquistar Cantabri
 a.
SUMMARY:Presentación del libro "NASO (Narices)"\, de José Luis Temes
END:VEVENT
END:VCALENDAR
